Workbook

Sheet 2025 yekun
C1: CƏMİ
A2: № | B2: Növ | C2: Kreditin Sayı | D2: Kreditin həcmi, mln. AZN
A3: 1 | B3: Yaşıl kreditlər | C3: ='2025 II yarım il'!C3+'2025 I yarım il'!C3 -> 879 | D3: ='2025 II yarım il'!D3+'2025 I yarım il'!D3 -> 449.93411
A4: 1.1 | B4: Bərpaolunan enerji | C4: ='2025 II yarım il'!C4+'2025 I yarım il'!C4 -> 15 | D4: ='2025 II yarım il'!D4+'2025 I yarım il'!D4 -> 32.301262
A5: 1.2 | B5: Enerji səmərəliyi | C5: ='2025 II yarım il'!C5+'2025 I yarım il'!C5 -> 127 | D5: ='2025 II yarım il'!D5+'2025 I yarım il'!D5 -> 31.100315
A6: 1.3 | B6: Su resurslarının dayanlıqlı idarə edilməsi | C6: ='2025 II yarım il'!C6+'2025 I yarım il'!C6 -> 28 | D6: ='2025 II yarım il'!D6+'2025 I yarım il'!D6 -> 92.045794
A7: 1.4 | B7: Çirklənmənin qarşısının alınması | C7: ='2025 II yarım il'!C7+'2025 I yarım il'!C7 -> 6 | D7: ='2025 II yarım il'!D7+'2025 I yarım il'!D7 -> 2.7629263
A8: 1.5 | B8: Yaşıl nəqliyyat | C8: ='2025 II yarım il'!C8+'2025 I yarım il'!C8 -> 516 | D8: ='2025 II yarım il'!D8+'2025 I yarım il'!D8 -> 201.2107
A9: 1.6 | B9: Dayanıqlı kənd təsərrüfatı, heyvandarlıq və akvakultura | C9: ='2025 II yarım il'!C9+'2025 I yarım il'!C9 -> 170 | D9: ='2025 II yarım il'!D9+'2025 I yarım il'!D9 -> 49.06335
A10: 1.7 | B10: Biomüxtəlifliyin mühafizəsi | C10: ='2025 II yarım il'!C10+'2025 I yarım il'!C10 -> 2 | D10: ='2025 II yarım il'!D10+'2025 I yarım il'!D10 -> 40.99457
A11: 1.8 | B11: Dairəvi iqtisadiyyat və tullantıların idarə olunması | C11: ='2025 II yarım il'!C11+'2025 I yarım il'!C11 -> 26 | D11: ='2025 II yarım il'!D11+'2025 I yarım il'!D11 -> 14.919691
A12: 1.9 | B12: Yaşıl binalar və dayanıqlı tikinti | C12: ='2025 II yarım il'!C12+'2025 I yarım il'!C12 -> 2 | D12: ='2025 II yarım il'!D12+'2025 I yarım il'!D12 -> 3
A13: 1.1 | B13: Yaşıl xidmətlər | C13: ='2025 II yarım il'!C13+'2025 I yarım il'!C13 -> 0 | D13: ='2025 II yarım il'!D13+'2025 I yarım il'!D13 -> 0
A14: 2 | B14: Yaşıl olmayan dayanıqlılıqla əlaqəli kreditlər | C14: ='2025 II yarım il'!C14+'2025 I yarım il'!C14 -> 45 | D14: ='2025 II yarım il'!D14+'2025 I yarım il'!D14 -> 26.57869
A15: 3 | B15: Digər (qeyri-bank ölkədaxili yaşıl istiqrazlar və s.) | C15: ='2025 II yarım il'!C15+'2025 I yarım il'!C15 -> 0 | D15: ='2025 II yarım il'!D15+'2025 I yarım il'!D15 -> 0
B16: Cəmi | C16: ='2025 II yarım il'!C16+'2025 I yarım il'!C16 -> 942 | D16: ='2025 II yarım il'!D16+'2025 I yarım il'!D16 -> 493.9773

Sheet 2025 II yarım il
C1: CƏMİ | F1: ABB ASC | H1: AccessBank QSC | J1: AFB Bank ASC | L1: Azər Türk Bank ASC | N1: Azərbaycan Sənaye Bankı ASC | P1: Bank Avrasiya ASC | R1: Bank BTB ASC | T1: Bank Melli İran Bakı filialı | V1: Bank of Baku ASC | X1: Bank Respublika ASC | Z1: Bank VTB (Azərbaycan) ASC | AB1: Expressbank ASC | AD1: Kapital Bank ASC | AF1: PAŞA Bank ASC | AH1: Premium Bank ASC | AJ1: Rabitəbank ASC | AL1: TuranBank ASC | AN1: Unibank KB ASC | AP1: Xalq Bank ASC | AR1: Yapı Kredi Bank Azərbaycan QSC | AT1: Yelo Bank ASC | AV1: Ziraat Bank Azərbaycan ASC
A2: № | B2: Növ | C2: Kreditin Sayı | D2: Kreditin həcmi, mln. AZN | F2: Kreditin Sayı | G2: Kreditin həcmi | H2: Kreditin Sayı | I2: Kreditin həcmi | J2: Kreditin Sayı | K2: Kreditin həcmi | L2: Kreditin Sayı | M2: Kreditin həcmi | N2: Kreditin Sayı | O2: Kreditin həcmi | P2: Kreditin Sayı | Q2: Kreditin həcmi | R2: Kreditin Sayı | S2: Kreditin həcmi | T2: Kreditin Sayı | U2: Kreditin həcmi | V2: Kreditin Sayı | W2: Kreditin həcmi | X2: Kreditin Sayı | Y2: Kreditin həcmi | Z2: Kreditin Sayı | AA2: Kreditin həcmi | AB2: Kreditin Sayı | AC2: Kreditin həcmi | AD2: Kreditin Sayı | AE2: Kreditin həcmi,AZN ekv. | AF2: Kreditin Sayı | AG2: Kreditin həcmi | AH2: Kreditin Sayı | AI2: Kreditin həcmi | AJ2: Kreditin Sayı | AK2: Kreditin həcmi | AL2: Kreditin Sayı | AM2: Kreditin həcmi | AN2: Kreditin Sayı | AO2: Kreditin həcmi | AP2: Kreditin Sayı | AQ2: Kreditin həcmi | AR2: Kreditin Sayı | AS2: Kreditin həcmi | AT2: Kreditin Sayı | AU2: Kreditin həcmi | AV2: Kreditin Sayı | AW2: Kreditin həcmi
A3: 1 | B3: Yaşıl kreditlər | C3: =F3+H3+J3+L3+N3+P3+R3+T3+X3+V3+Z3+AB3+AD3+AH3+AF3+AJ3+AL3+AN3+AP3+AR3+AT3+AV3 -> 480 | D3: =(G3+I3+K3+M3+O3+Q3+S3+U3+Y3+W3+AA3+AC3+AE3+AI3+AG3+AK3+AM3+AO3+AQ3+AS3+AU3+AW3)/1000000 -> 248.09155 | F3: =SUM(F4:F13) -> 29 | G3: =SUM(G4:G13) -> 1.0215009e+08 | J3: =SUM(J4:J13) -> 23 | K3: =SUM(K4:K13) -> 1884000 | L3: 0 | M3: 0 | N3: =SUM(N4:N13) -> 1 | O3: =SUM(O4:O13) -> 1300000 | P3: =SUM(P4:P13) -> 121 | Q3: =SUM(Q4:Q13) -> 4383800 | R3: =SUM(R4:R13) -> 6 | S3: =SUM(S4:S13) -> 408000 | T3: 0 | U3: 0 | V3: 17 | W3: =SUM(W4:W13) -> 593300 | X3: =SUM(X4:X13) -> 109 | Y3: =SUM(Y4:Y13) -> 33554813 | Z3: 0 | AA3: 0 | AB3: =SUM(AB4:AB13) -> 8 | AC3: =SUM(AC4:AC13) -> 4890000 | AD3: =SUM(AD4:AD13) -> 11 | AE3: =SUM(AE4:AE13) -> 3012150 | AF3: =SUM(AF4:AF13) -> 31 | AG3: =SUM(AG4:AG13) -> 71063248 | AH3: 0 | AI3: 0 | AJ3: 0 | AK3: 0 | AL3: =SUM(AL4:AL13) -> 10 | AM3: =SUM(AM4:AM13) -> 972000 | AN3: =SUM(AN4:AN13) -> 5 | AO3: =SUM(AO4:AO13) -> 2440000 | AP3: =SUM(AP4:AP13) -> 48 | AQ3: =SUM(AQ4:AQ13) -> 7019450 | AR3: 0 | AS3: 0 | AT3: =SUM(AT4:AT13) -> 1 | AU3: =SUM(AU4:AU13) -> 300000 | AV3: 60 | AW3: 14120702
A4: 1.1 | B4: Bərpaolunan enerji | C4: =F4+H4+J4+L4+N4+P4+R4+T4+X4+V4+Z4+AB4+AD4+AH4+AF4+AJ4+AL4+AN4+AP4+AR4+AT4+AV4 -> 13 | D4: =(G4+I4+K4+M4+O4+Q4+S4+U4+Y4+W4+AA4+AC4+AE4+AI4+AG4+AK4+AM4+AO4+AQ4+AS4+AU4+AW4)/1000000 -> 31.868262 | F4: 7 | G4: 24206489 | H4: 0 | I4: 0 | J4: 0 | K4: 0 | L4: 0 | M4: 0 | N4: 1 | O4: 1300000 | P4: 0 | Q4: 0 | R4: 0 | S4: 0 | T4: 0 | U4: 0 | V4: 0 | W4: 0 | Z4: 0 | AA4: 0 | AB4: 0 | AC4: 0 | AD4: 2 | AE4: 372150 | AF4: 3 | AG4: 5989623.2 | AH4: 0 | AI4: 0 | AJ4: 0 | AK4: 0 | AL4: 0 | AM4: 0 | AN4: 0 | AO4: 0 | AP4: 0 | AQ4: 0 | AR4: 0 | AS4: 0 | AT4: 0 | AU4: 0 | AV4: 0 | AW4: 0
A5: 1.2 | B5: Enerji səmərəliyi | C5: =F5+H5+J5+L5+N5+P5+R5+T5+X5+V5+Z5+AB5+AD5+AH5+AF5+AJ5+AL5+AN5+AP5+AR5+AT5+AV5 -> 57 | D5: =(G5+I5+K5+M5+O5+Q5+S5+U5+Y5+W5+AA5+AC5+AE5+AI5+AG5+AK5+AM5+AO5+AQ5+AS5+AU5+AW5)/1000000 -> 15.7583 | F5: 0 | G5: 0 | H5: 0 | I5: 0 | J5: 0 | K5: 0 | L5: 0 | M5: 0 | N5: 0 | O5: 0 | P5: 0 | Q5: 0 | R5: 0 | S5: 0 | T5: 0 | U5: 0 | V5: 0 | W5: 0 | X5: 54 | Y5: 13858300 | Z5: 0 | AA5: 0 | AB5: 0 | AC5: 0 | AD5: 1 | AE5: 200000 | AF5: 0 | AG5: 0 | AH5: 0 | AI5: 0 | AJ5: 0 | AK5: 0 | AL5: 0 | AM5: 0 | AN5: 2 | AO5: 1700000 | AP5: 0 | AQ5: 0 | AR5: 0 | AS5: 0 | AT5: 0 | AU5: 0 | AV5: 0 | AW5: 0
A6: 1.3 | B6: Su resurslarının dayanlıqlı idarə edilməsi | C6: =F6+H6+J6+L6+N6+P6+R6+T6+X6+V6+Z6+AB6+AD6+AH6+AF6+AJ6+AL6+AN6+AP6+AR6+AT6+AV6 -> 11 | D6: =(G6+I6+K6+M6+O6+Q6+S6+U6+Y6+W6+AA6+AC6+AE6+AI6+AG6+AK6+AM6+AO6+AQ6+AS6+AU6+AW6)/1000000 -> 23.397018 | F6: 2 | G6: 18945018 | H6: 0 | I6: 0 | J6: 1 | K6: 500000 | L6: 0 | M6: 0 | N6: 0 | O6: 0 | P6: 0 | Q6: 0 | R6: 0 | S6: 0 | T6: 0 | U6: 0 | V6: 0 | W6: 0 | Z6: 0 | AA6: 0 | AB6: 0 | AC6: 0 | AD6: 4 | AE6: 1940000 | AF6: 2 | AG6: 1512000 | AH6: 0 | AI6: 0 | AJ6: 0 | AK6: 0 | AL6: 1 | AM6: 200000 | AN6: 0 | AO6: 0 | AP6: 0 | AQ6: 0 | AR6: 0 | AS6: 0 | AT6: 1 | AU6: 300000 | AV6: 0 | AW6: 0
A7: 1.4 | B7: Çirklənmənin qarşısının alınması | C7: =F7+H7+J7+L7+N7+P7+R7+T7+X7+V7+Z7+AB7+AD7+AH7+AF7+AJ7+AL7+AN7+AP7+AR7+AT7+AV7 -> 4 | D7: =(G7+I7+K7+M7+O7+Q7+S7+U7+Y7+W7+AA7+AC7+AE7+AI7+AG7+AK7+AM7+AO7+AQ7+AS7+AU7+AW7)/1000000 -> 1.6629263 | F7: 0 | G7: 0 | H7: 0 | I7: 0 | J7: 0 | K7: 0 | L7: 0 | M7: 0 | N7: 0 | O7: 0 | P7: 0 | Q7: 0 | R7: 0 | S7: 0 | T7: 0 | U7: 0 | V7: 0 | W7: 0 | Z7: 0 | AA7: 0 | AB7: 1 | AC7: 700000 | AF7: 1 | AG7: 261676.35 | AH7: 0 | AI7: 0 | AJ7: 0 | AK7: 0 | AL7: 0 | AM7: 0 | AP7: 0 | AQ7: 0 | AR7: 0 | AS7: 0 | AT7: 0 | AU7: 0 | AV7: 2 | AW7: 701250
A8: 1.5 | B8: Yaşıl nəqliyyat | C8: =F8+H8+J8+L8+N8+P8+R8+T8+X8+V8+Z8+AB8+AD8+AH8+AF8+AJ8+AL8+AN8+AP8+AR8+AT8+AV8 -> 295 | D8: =(G8+I8+K8+M8+O8+Q8+S8+U8+Y8+W8+AA8+AC8+AE8+AI8+AG8+AK8+AM8+AO8+AQ8+AS8+AU8+AW8)/1000000 -> 108.59873 | F8: 18 | G8: 18004009 | H8: 8 | I8: 2250900 | J8: 22 | K8: 1384000 | L8: 1 | M8: 100000 | N8: 0 | O8: 0 | P8: 121 | Q8: 4383800 | R8: 0 | S8: 0 | T8: 0 | U8: 0 | V8: 17 | W8: 593300 | X8: 24 | Y8: 10859913 | Z8: 0 | AA8: 0 | AB8: 0 | AC8: 0 | AD8: 2 | AE8: 200000 | AF8: 22 | AG8: 62291358 | AL8: 9 | AM8: 772000 | AN8: 3 | AO8: 740000 | AP8: 48 | AQ8: 7019450 | AR8: 0 | AS8: 0 | AT8: 0 | AU8: 0 | AV8: 0 | AW8: 0
A9: 1.6 | B9: Dayanıqlı kənd təsərrüfatı, heyvandarlıq və akvakultura | C9: =F9+H9+J9+L9+N9+P9+R9+T9+X9+V9+Z9+AB9+AD9+AH9+AF9+AJ9+AL9+AN9+AP9+AR9+AT9+AV9 -> 96 | D9: =(G9+I9+K9+M9+O9+Q9+S9+U9+Y9+W9+AA9+AC9+AE9+AI9+AG9+AK9+AM9+AO9+AQ9+AS9+AU9+AW9)/1000000 -> 22.602452 | F9: 0 | G9: 0 | H9: 0 | I9: 0 | J9: 0 | K9: 0 | N9: 0 | O9: 0 | P9: 0 | Q9: 0 | R9: 6 | S9: 408000 | X9: 23 | Y9: 5535000 | Z9: 0 | AA9: 0 | AB9: 6 | AC9: 1940000 | AD9: 2 | AE9: 300000 | AF9: 1 | AG9: 1000000 | AH9: 0 | AI9: 0 | AJ9: 0 | AK9: 0 | AL9: 0 | AM9: 0 | AN9: 0 | AO9: 0 | AP9: 0 | AQ9: 0 | AR9: 0 | AS9: 0 | AV9: 58 | AW9: 13419452
A10: 1.7 | B10: Biomüxtəlifliyin mühafizəsi | C10: =F10+H10+J10+L10+N10+P10+R10+T10+X10+V10+Z10+AB10+AD10+AH10+AF10+AJ10+AL10+AN10+AP10+AR10+AT10+AV10 -> 2 | D10: =(G10+I10+K10+M10+O10+Q10+S10+U10+Y10+W10+AA10+AC10+AE10+AI10+AG10+AK10+AM10+AO10+AQ10+AS10+AU10+AW10)/1000000 -> 40.99457 | F10: 2 | G10: 40994570 | H10: 0 | I10: 0 | J10: 0 | K10: 0 | L10: 0 | M10: 0 | N10: 0 | O10: 0 | P10: 0 | Q10: 0 | R10: 0 | S10: 0 | T10: 0 | U10: 0 | V10: 0 | W10: 0 | Z10: 0 | AA10: 0 | AB10: 0 | AC10: 0 | AF10: 0 | AG10: 0 | AH10: 0 | AI10: 0 | AJ10: 0 | AK10: 0 | AL10: 0 | AM10: 0 | AN10: 0 | AO10: 0 | AP10: 0 | AQ10: 0 | AR10: 0 | AS10: 0 | AT10: 0 | AU10: 0 | AV10: 0 | AW10: 0
A11: 1.8 | B11: Dairəvi iqtisadiyyat və tullantıların idarə olunması | C11: =F11+H11+J11+L11+N11+P11+R11+T11+X11+V11+Z11+AB11+AD11+AH11+AF11+AJ11+AL11+AN11+AP11+AR11+AT11+AV11 -> 10 | D11: =(G11+I11+K11+M11+O11+Q11+S11+U11+Y11+W11+AA11+AC11+AE11+AI11+AG11+AK11+AM11+AO11+AQ11+AS11+AU11+AW11)/1000000 -> 3.310191 | F11: 0 | G11: 0 | H11: 0 | I11: 0 | J11: 0 | K11: 0 | L11: 0 | M11: 0 | N11: 0 | O11: 0 | P11: 0 | Q11: 0 | R11: 0 | S11: 0 | T11: 0 | U11: 0 | V11: 0 | W11: 0 | X11: 8 | Y11: 3301600 | Z11: 0 | AA11: 0 | AB11: 0 | AC11: 0 | AD11: 0 | AE11: 0 | AF11: 2 | AG11: 8591 | AH11: 0 | AI11: 0 | AJ11: 0 | AK11: 0 | AL11: 0 | AM11: 0 | AN11: 0 | AO11: 0 | AP11: 0 | AQ11: 0 | AR11: 0 | AS11: 0 | AT11: 0 | AU11: 0 | AV11: 0 | AW11: 0
A12: 1.9 | B12: Yaşıl binalar və dayanıqlı tikinti | C12: =F12+H12+J12+L12+N12+P12+R12+T12+X12+V12+Z12+AB12+AD12+AH12+AF12+AJ12+AL12+AN12+AP12+AR12+AT12+AV12 -> 1 | D12: =(G12+I12+K12+M12+O12+Q12+S12+U12+Y12+W12+AA12+AC12+AE12+AI12+AG12+AK12+AM12+AO12+AQ12+AS12+AU12+AW12)/1000000 -> 2.25 | F12: 0 | G12: 0 | H12: 0 | I12: 0 | J12: 0 | K12: 0 | L12: 0 | M12: 0 | N12: 0 | O12: 0 | P12: 0 | Q12: 0 | R12: 0 | S12: 0 | T12: 0 | U12: 0 | V12: 0 | W12: 0 | X12: 0 | Y12: 0 | Z12: 0 | AA12: 0 | AB12: 1 | AC12: 2250000 | AF12: 0 | AG12: 0 | AH12: 0 | AI12: 0 | AJ12: 0 | AK12: 0 | AL12: 0 | AM12: 0 | AN12: 0 | AO12: 0 | AP12: 0 | AQ12: 0 | AR12: 0 | AS12: 0 | AT12: 0 | AU12: 0 | AV12: 0 | AW12: 0
A13: 1.1 | B13: Yaşıl xidmətlər | C13: =F13+H13+J13+L13+N13+P13+R13+T13+X13+V13+Z13+AB13+AD13+AH13+AF13+AJ13+AL13+AN13+AP13+AR13+AT13+AV13 -> 0 | D13: =(G13+I13+K13+M13+O13+Q13+S13+U13+Y13+W13+AA13+AC13+AE13+AI13+AG13+AK13+AM13+AO13+AQ13+AS13+AU13+AW13)/1000000 -> 0 | F13: 0 | G13: 0 | H13: 0 | I13: 0 | J13: 0 | K13: 0 | L13: 0 | M13: 0 | N13: 0 | O13: 0 | P13: 0 | Q13: 0 | R13: 0 | S13: 0 | T13: 0 | U13: 0 | V13: 0 | W13: 0 | X13: 0 | Y13: 0 | Z13: 0 | AA13: 0 | AB13: 0 | AC13: 0 | AD13: 0 | AE13: 0 | AF13: 0 | AG13: 0 | AH13: 0 | AI13: 0 | AJ13: 0 | AK13: 0 | AL13: 0 | AM13: 0 | AN13: 0 | AO13: 0 | AP13: 0 | AQ13: 0 | AR13: 0 | AS13: 0 | AT13: 0 | AU13: 0 | AV13: 0 | AW13: 0
A14: 2 | B14: Yaşıl olmayan dayanıqlılıqla əlaqəli kreditlər | C14: =F14+H14+J14+L14+N14+P14+R14+T14+X14+V14+Z14+AB14+AD14+AH14+AF14+AJ14+AL14+AN14+AP14+AR14+AT14+AV14 -> 25 | D14: =(G14+I14+K14+M14+O14+Q14+S14+U14+Y14+W14+AA14+AC14+AE14+AI14+AG14+AK14+AM14+AO14+AQ14+AS14+AU14+AW14)/1000000 -> 20.88643 | F14: 0 | G14: 0 | H14: 7 | I14: 1062000 | J14: 0 | K14: 0 | L14: 0 | M14: 0 | N14: 0 | O14: 0 | P14: 0 | Q14: 0 | R14: 0 | S14: 0 | T14: 0 | U14: 0 | V14: 0 | W14: 0 | X14: 0 | Y14: 0 | Z14: 0 | AA14: 0 | AD14: 3 | AE14: 300000 | AF14: 0 | AG14: 0 | AH14: 0 | AI14: 0 | AJ14: 0 | AK14: 0 | AL14: 0 | AM14: 0 | AN14: 0 | AO14: 0 | AP14: 0 | AQ14: 0 | AR14: 0 | AS14: 0 | AT14: 0 | AU14: 0 | AV14: 15 | AW14: 19524430
A15: 3 | B15: Digər (qeyri-bank ölkədaxili yaşıl istiqrazlar və s.) | C15: =F15+H15+J15+L15+N15+P15+R15+T15+X15+V15+Z15+AB15+AD15+AH15+AF15+AJ15+AL15+AN15+AP15+AR15+AT15+AV15 -> 0 | D15: =(G15+I15+K15+M15+O15+Q15+S15+U15+Y15+W15+AA15+AC15+AE15+AI15+AG15+AK15+AM15+AO15+AQ15+AS15+AU15+AW15)/1000000 -> 0 | F15: 0 | G15: 0 | H15: 0 | I15: 0 | J15: 0 | K15: 0 | L15: 0 | M15: 0 | N15: 0 | O15: 0 | P15: 0 | Q15: 0 | R15: 0 | S15: 0 | T15: 0 | U15: 0 | V15: 0 | W15: 0 | X15: 0 | Y15: 0 | Z15: 0 | AA15: 0 | AB15: 0 | AC15: 0 | AD15: 0 | AE15: 0 | AF15: 0 | AG15: 0 | AH15: 0 | AI15: 0 | AJ15: 0 | AK15: 0 | AL15: 0 | AM15: 0 | AN15: 0 | AO15: 0 | AP15: 0 | AQ15: 0 | AR15: 0 | AS15: 0 | AT15: 0 | AU15: 0 | AV15: 0 | AW15: 0
B16: Cəmi | C16: =F16+H16+J16+L16+N16+P16+R16+T16+X16+V16+Z16+AB16+AD16+AH16+AF16+AJ16+AL16+AN16+AP16+AR16+AT16+AV16 -> 519 | D16: =(G16+I16+K16+M16+O16+Q16+S16+U16+Y16+W16+AA16+AC16+AE16+AI16+AG16+AK16+AM16+AO16+AQ16+AS16+AU16+AW16)/1000000 -> 271.32888 | F16: =F15+F14+F3 -> 29 | G16: =G15+G14+G3 -> 1.0215009e+08 | H16: =SUM(H4:H15) -> 15 | I16: =SUM(I4:I15) -> 3312900 | J16: =SUM(J3+J14+J15) -> 23 | K16: =SUM(K3+K14+K15) -> 1884000 | L16: =SUM(L3:L15) -> 1 | M16: =SUM(M3:M15) -> 100000 | N16: 1 | O16: 1300000 | P16: =SUM(P4:P15) -> 121 | Q16: =SUM(Q4:Q15) -> 4383800 | R16: =SUM(R4:R15) -> 6 | S16: =SUM(S4:S15) -> 408000 | T16: 0 | U16: 0 | V16: =SUM(V4:V15) -> 17 | W16: =SUM(W4:W15) -> 593300 | X16: =X3+X14+X15 -> 109 | Y16: =Y3+Y14+Y15 -> 33554813 | Z16: 0 | AA16: 0 | AB16: =SUM(AB4:AB15) -> 8 | AC16: =SUM(AC4:AC15) -> 4890000 | AD16: =SUM(AD4:AD15) -> 14 | AE16: =SUM(AE4:AE15) -> 3312150 | AF16: =SUM(AF4:AF15) -> 31 | AG16: =SUM(AG4:AG15) -> 71063248 | AH16: 0 | AI16: 0 | AJ16: 0 | AK16: 0 | AL16: =SUM(AL4:AL15) -> 10 | AM16: =SUM(AM4:AM15) -> 972000 | AN16: =SUM(AN3:AN15) -> 10 | AO16: =SUM(AO4:AO15) -> 2440000 | AP16: =AP3+AP14+AP15 -> 48 | AQ16: =SUM(AQ4:AQ15) -> 7019450 | AR16: 0 | AS16: 0 | AT16: =SUM(AT4:AT15) -> 1 | AU16: =SUM(AU4:AU15) -> 300000 | AV16: 75 | AW16: 33645132

Sheet 2025 I yarım il
C1: CƏMİ | F1: ABB ASC | H1: AccessBank QSC | J1: AFB Bank ASC | L1: Azər Türk Bank ASC | N1: Azərbaycan Sənaye Bankı ASC | P1: Bank Avrasiya ASC | R1: Bank BTB ASC | T1: Bank Melli İran Bakı filialı | V1: Bank of Baku ASC | X1: Bank Respublika ASC | Z1: Bank VTB (Azərbaycan) ASC | AB1: Expressbank ASC | AD1: Kapital Bank ASC | AF1: PAŞA Bank ASC | AH1: Premium Bank ASC | AJ1: Rabitəbank ASC | AL1: TuranBank ASC | AN1: Unibank KB ASC | AP1: Xalq Bank ASC | AR1: Yapı Kredi Bank Azərbaycan QSC | AT1: Yelo Bank ASC | AV1: Ziraat Bank Azərbaycan ASC
A2: № | B2: Növ | C2: Kreditin Sayı | D2: Kreditin həcmi, mln. AZN | F2: Kreditin Sayı | G2: Kreditin həcmi | H2: Kreditin Sayı | I2: Kreditin həcmi | J2: Kreditin Sayı | K2: Kreditin həcmi | L2: Kreditin Sayı | M2: Kreditin həcmi | N2: Kreditin Sayı | O2: Kreditin həcmi | P2: Kreditin Sayı | Q2: Kreditin həcmi | R2: Kreditin Sayı | S2: Kreditin həcmi | T2: Kreditin Sayı | U2: Kreditin həcmi | V2: Kreditin Sayı | W2: Kreditin həcmi | X2: Kreditin Sayı | Y2: Kreditin həcmi | Z2: Kreditin Sayı | AA2: Kreditin həcmi | AB2: Kreditin Sayı | AC2: Kreditin həcmi | AD2: Kreditin Sayı | AE2: Kreditin həcmi,AZN ekv. | AF2: Kreditin Sayı | AG2: Kreditin həcmi | AH2: Kreditin Sayı | AI2: Kreditin həcmi | AJ2: Kreditin Sayı | AK2: Kreditin həcmi | AL2: Kreditin Sayı | AM2: Kreditin həcmi | AN2: Kreditin Sayı | AO2: Kreditin həcmi | AP2: Kreditin Sayı | AQ2: Kreditin həcmi | AR2: Kreditin Sayı | AS2: Kreditin həcmi | AT2: Kreditin Sayı | AU2: Kreditin həcmi | AV2: Kreditin Sayı | AW2: Kreditin həcmi
A3: 1 | B3: Yaşıl kreditlər | C3: =F3+H3+J3+L3+N3+P3+R3+T3+X3+V3+Z3+AB3+AD3+AH3+AF3+AJ3+AL3+AN3+AP3+AR3+AT3+AV3 -> 399 | D3: =(G3+I3+K3+M3+O3+Q3+S3+U3+Y3+W3+AA3+AC3+AE3+AI3+AG3+AK3+AM3+AO3+AQ3+AS3+AU3+AW3)/1000000 -> 201.84256 | F3: =SUM(F4:F13) -> 15 | G3: =SUM(G4:G13) -> 66820720 | H3: 0 | I3: 0 | J3: =SUM(J4:J14) -> 2 | K3: =SUM(K4:K14) -> 683000 | L3: =SUM(L4:L14) -> 3 | M3: =SUM(M4:M14) -> 2100000 | N3: =SUM(N4:N14) -> 0 | O3: =SUM(O4:O14) -> 0 | P3: =SUM(P4:P14) -> 57 | Q3: =SUM(Q4:Q14) -> 2043610 | ... U3: =SUM(U4:U14) -> 0 | V3: 40 | W3: 1367200 | X3: =SUM(X4:X13) -> 116 | Y3: =SUM(Y4:Y13) -> 23076115 | Z3: =SUM(Z4:Z14) -> 0 | AA3: =SUM(AA4:AA14) -> 0 | AB3: =SUM(AB4:AB13) -> 5 | AC3: =SUM(AC4:AC13) -> 1800000 | AD3: 0 | AE3: 0 | AF3: =SUM(AF4:AF14) -> 47 | AG3: =SUM(AG4:AG15) -> 60764157 | AH3: =SUM(AH4:AH14) -> 0 | AI3: =SUM(AI4:AI14) -> 0 | AJ3: =SUM(AJ4:AJ14) -> 4 | AK3: =SUM(AK4:AK14) -> 1380000 | AL3: =SUM(AL4:AL14) -> 4 | AM3: =SUM(AM4:AM14) -> 1686000 | AN3: 11 | AO3: 3424058 | AP3: 45 | AQ3: 19146500 | AR3: 0 | AS3: 0 | AT3: 1 | AU3: 200000 | AV3: 49 | AW3: 17351198
A4: 1.1 | B4: Bərpaolunan enerji | C4: =F4+H4+J4+L4+N4+P4+R4+T4+X4+V4+Z4+AB4+AD4+AH4+AF4+AJ4+AL4+AN4+AP4+AR4+AT4+AV4 -> 2 | D4: =(G4+I4+K4+M4+O4+Q4+S4+U4+Y4+W4+AA4+AC4+AE4+AI4+AG4+AK4+AM4+AO4+AQ4+AS4+AU4+AW4)/1000000 -> 0.433 | F4: 0 | G4: 0 | H4: 0 | I4: 0 | J4: 1 | K4: 183000 | L4: 0 | M4: 0 | N4: 0 | O4: 0 | P4: 0 | Q4: 0 | R4: 0 | S4: 0 | T4: 0 | U4: 0 | V4: 0 | W4: 0 | Z4: 0 | AA4: 0 | AB4: 0 | AC4: 0 | AD4: 0 | AE4: 0 | AF4: 1 | AG4: 250000 | AH4: 0 | AI4: 0 | AJ4: 0 | AK4: 0 | AL4: 0 | AM4: 0 | AN4: 0 | AO4: 0 | AP4: 0 | AQ4: 0 | AR4: 0 | AS4: 0 | AT4: 0 | AU4: 0 | AV4: 0 | AW4: 0
A5: 1.2 | B5: Enerji səmərəliyi | C5: =F5+H5+J5+L5+N5+P5+R5+T5+X5+V5+Z5+AB5+AD5+AH5+AF5+AJ5+AL5+AN5+AP5+AR5+AT5+AV5 -> 70 | D5: =(G5+I5+K5+M5+O5+Q5+S5+U5+Y5+W5+AA5+AC5+AE5+AI5+AG5+AK5+AM5+AO5+AQ5+AS5+AU5+AW5)/1000000 -> 15.342015 | F5: 1 | G5: 700000 | H5: 1 | I5: 14000000 | J5: 0 | K5: 0 | L5: 0 | M5: 0 | N5: 0 | O5: 0 | P5: 0 | Q5: 0 | R5: 0 | S5: 0 | T5: 0 | U5: 0 | V5: 0 | W5: 0 | X5: 67 | Y5: 582015 | Z5: 0 | AA5: 0 | AB5: 0 | AC5: 0 | AD5: 0 | AE5: 0 | AF5: 0 | AG5: 0 | AH5: 0 | AI5: 0 | AJ5: 1 | AK5: 60000 | AL5: 0 | AM5: 0 | AN5: 0 | AO5: 0 | AP5: 0 | AQ5: 0 | AR5: 0 | AS5: 0 | AT5: 0 | AU5: 0 | AV5: 0 | AW5: 0
A6: 1.3 | B6: Su resurslarının dayanlıqlı idarə edilməsi | C6: =F6+H6+J6+L6+N6+P6+R6+T6+X6+V6+Z6+AB6+AD6+AH6+AF6+AJ6+AL6+AN6+AP6+AR6+AT6+AV6 -> 17 | D6: =(G6+I6+K6+M6+O6+Q6+S6+U6+Y6+W6+AA6+AC6+AE6+AI6+AG6+AK6+AM6+AO6+AQ6+AS6+AU6+AW6)/1000000 -> 68.648776 | F6: 4 | G6: 55460000 | H6: 0 | I6: 0 | N6: 0 | O6: 0 | P6: 0 | Q6: 0 | R6: 0 | S6: 0 | T6: 0 | U6: 0 | V6: 0 | W6: 0 | X6: 0 | Y6: 0 | Z6: 0 | AA6: 0 | AB6: 1 | AC6: 200000 | AD6: 0 | AE6: 0 | AF6: 10 | AG6: 12374977 | AH6: 0 | AI6: 0 | AJ6: 0 | AK6: 0 | AL6: 1 | AM6: 200000 | AN6: 1 | AO6: 413799 | AP6: 0 | AQ6: 0 | AR6: 0 | AS6: 0 | AT6: 0 | AU6: 0 | AV6: 0 | AW6: 0
A7: 1.4 | B7: Çirklənmənin qarşısının alınması | C7: =F7+H7+J7+L7+N7+P7+R7+T7+X7+V7+Z7+AB7+AD7+AH7+AF7+AJ7+AL7+AN7+AP7+AR7+AT7+AV7 -> 2 | D7: =(G7+I7+K7+M7+O7+Q7+S7+U7+Y7+W7+AA7+AC7+AE7+AI7+AG7+AK7+AM7+AO7+AQ7+AS7+AU7+AW7)/1000000 -> 1.1 | F7: 0 | G7: 0 | H7: 0 | I7: 0 | J7: 0 | K7: 0 | L7: 1 | M7: 100000 | N7: 0 | O7: 0 | P7: 0 | Q7: 0 | R7: 0 | S7: 0 | T7: 0 | U7: 0 | V7: 0 | W7: 0 | X7: 0 | Y7: 0 | Z7: 0 | AA7: 0 | AB7: 0 | AC7: 0 | AD7: 0 | AE7: 0 | AF7: 0 | AG7: 0 | AH7: 0 | AI7: 0 | AJ7: 1 | AK7: 1000000 | AL7: 0 | AM7: 0 | AN7: 0 | AO7: 0 | AP7: 0 | AQ7: 0 | AR7: 0 | AS7: 0 | AT7: 0 | AU7: 0 | AV7: 0 | AW7: 0
A8: 1.5 | B8: Yaşıl nəqliyyat | C8: =F8+H8+J8+L8+N8+P8+R8+T8+X8+V8+Z8+AB8+AD8+AH8+AF8+AJ8+AL8+AN8+AP8+AR8+AT8+AV8 -> 221 | D8: =(G8+I8+K8+M8+O8+Q8+S8+U8+Y8+W8+AA8+AC8+AE8+AI8+AG8+AK8+AM8+AO8+AQ8+AS8+AU8+AW8)/1000000 -> 92.611969 | F8: 10 | G8: 10660720 | H8: 3 | I8: 1113600 | L8: 2 | M8: 2000000 | N8: 0 | O8: 0 | P8: 57 | Q8: 2043610 | R8: 0 | S8: 0 | T8: 0 | U8: 0 | V8: 40 | W8: 1367200 | X8: 21 | Y8: 13469600 | Z8: 0 | AA8: 0 | AB8: 0 | AC8: 0 | AD8: 0 | AE8: 0 | AF8: 29 | AG8: 38114480 | AH8: 0 | AI8: 0 | AJ8: 0 | AK8: 0 | AL8: 3 | AM8: 1486000 | AN8: 10 | AO8: 3010259 | AP8: 45 | AQ8: 19146500 | AR8: 0 | AS8: 0 | AT8: 1 | AU8: 200000 | AV8: 0 | AW8: 0
A9: 1.6 | B9: Dayanıqlı kənd təsərrüfatı, heyvandarlıq və akvakultura | C9: =F9+H9+J9+L9+N9+P9+R9+T9+X9+V9+Z9+AB9+AD9+AH9+AF9+AJ9+AL9+AN9+AP9+AR9+AT9+AV9 -> 74 | D9: =(G9+I9+K9+M9+O9+Q9+S9+U9+Y9+W9+AA9+AC9+AE9+AI9+AG9+AK9+AM9+AO9+AQ9+AS9+AU9+AW9)/1000000 -> 26.460898 | F9: 0 | G9: 0 | H9: 0 | I9: 0 | J9: 1 | K9: 500000 | L9: 0 | M9: 0 | N9: 0 | O9: 0 | P9: 0 | Q9: 0 | R9: 0 | S9: 0 | T9: 0 | U9: 0 | V9: 0 | W9: 0 | X9: 14 | Y9: 5690000 | Z9: 0 | AA9: 0 | AB9: 3 | AC9: 850000 | AD9: 0 | AE9: 0 | AF9: 5 | AG9: 1749700 | AH9: 0 | AI9: 0 | AJ9: 2 | AK9: 320000 | AL9: 0 | AM9: 0 | AN9: 0 | AO9: 0 | AP9: 0 | AQ9: 0 | AR9: 0 | AS9: 0 | AT9: 0 | AU9: 0 | AV9: 49 | AW9: 17351198
A10: 1.7 | B10: Biomüxtəlifliyin mühafizəsi | C10: =F10+H10+J10+L10+N10+P10+R10+T10+X10+V10+Z10+AB10+AD10+AH10+AF10+AJ10+AL10+AN10+AP10+AR10+AT10+AV10 -> 0 | D10: =(G10+I10+K10+M10+O10+Q10+S10+U10+Y10+W10+AA10+AC10+AE10+AI10+AG10+AK10+AM10+AO10+AQ10+AS10+AU10+AW10)/1000000 -> 0 | F10: 0 | G10: 0 | H10: 0 | I10: 0 | J10: 0 | K10: 0 | L10: 0 | M10: 0 | N10: 0 | O10: 0 | P10: 0 | Q10: 0 | R10: 0 | S10: 0 | T10: 0 | U10: 0 | V10: 0 | W10: 0 | Z10: 0 | AA10: 0 | AB10: 0 | AC10: 0 | AD10: 0 | AE10: 0 | AF10: 0 | AG10: 0 | AH10: 0 | AI10: 0 | AJ10: 0 | AK10: 0 | AL10: 0 | AM10: 0 | AN10: 0 | AO10: 0 | AP10: 0 | AQ10: 0 | AR10: 0 | AS10: 0 | AT10: 0 | AU10: 0 | AV10: 0 | AW10: 0
A11: 1.8 | B11: Dairəvi iqtisadiyyat və tullantıların idarə olunması | C11: =F11+H11+J11+L11+N11+P11+R11+T11+X11+V11+Z11+AB11+AD11+AH11+AF11+AJ11+AL11+AN11+AP11+AR11+AT11+AV11 -> 16 | D11: =(G11+I11+K11+M11+O11+Q11+S11+U11+Y11+W11+AA11+AC11+AE11+AI11+AG11+AK11+AM11+AO11+AQ11+AS11+AU11+AW11)/1000000 -> 11.6095 | F11: 0 | G11: 0 | H11: 0 | I11: 0 | J11: 0 | K11: 0 | L11: 0 | M11: 0 | N11: 0 | O11: 0 | P11: 0 | Q11: 0 | R11: 0 | S11: 0 | T11: 0 | U11: 0 | V11: 0 | W11: 0 | X11: 14 | Y11: 3334500 | Z11: 0 | AA11: 0 | AB11: 0 | AC11: 0 | AD11: 0 | AE11: 0 | AF11: 2 | AG11: 8275000 | AH11: 0 | AI11: 0 | AJ11: 0 | AK11: 0 | AL11: 0 | AM11: 0 | AN11: 0 | AO11: 0 | AP11: 0 | AQ11: 0 | AR11: 0 | AS11: 0 | AT11: 0 | AU11: 0 | AV11: 0 | AW11: 0
A12: 1.9 | B12: Yaşıl binalar və dayanıqlı tikinti | C12: =F12+H12+J12+L12+N12+P12+R12+T12+X12+V12+Z12+AB12+AD12+AH12+AF12+AJ12+AL12+AN12+AP12+AR12+AT12+AV12 -> 1 | D12: =(G12+I12+K12+M12+O12+Q12+S12+U12+Y12+W12+AA12+AC12+AE12+AI12+AG12+AK12+AM12+AO12+AQ12+AS12+AU12+AW12)/1000000 -> 0.75 | F12: 0 | G12: 0 | H12: 0 | I12: 0 | J12: 0 | K12: 0 | L12: 0 | M12: 0 | N12: 0 | O12: 0 | P12: 0 | Q12: 0 | R12: 0 | S12: 0 | T12: 0 | U12: 0 | V12: 0 | W12: 0 | X12: 0 | Y12: 0 | Z12: 0 | AA12: 0 | AB12: 1 | AC12: 750000 | AD12: 0 | AE12: 0 | AF12: 0 | AG12: 0 | AH12: 0 | AI12: 0 | AJ12: 0 | AK12: 0 | AL12: 0 | AM12: 0 | AN12: 0 | AO12: 0 | AP12: 0 | AQ12: 0 | AR12: 0 | AS12: 0 | AT12: 0 | AU12: 0 | AV12: 0 | AW12: 0
A13: 1.1 | B13: Yaşıl xidmətlər | C13: =F13+H13+J13+L13+N13+P13+R13+T13+X13+V13+Z13+AB13+AD13+AH13+AF13+AJ13+AL13+AN13+AP13+AR13+AT13+AV13 -> 0 | D13: =(G13+I13+K13+M13+O13+Q13+S13+U13+Y13+W13+AA13+AC13+AE13+AI13+AG13+AK13+AM13+AO13+AQ13+AS13+AU13+AW13)/1000000 -> 0 | F13: 0 | G13: 0 | H13: 0 | I13: 0 | J13: 0 | K13: 0 | L13: 0 | M13: 0 | N13: 0 | O13: 0 | P13: 0 | Q13: 0 | R13: 0 | S13: 0 | T13: 0 | U13: 0 | V13: 0 | W13: 0 | X13: 0 | Y13: 0 | Z13: 0 | AA13: 0 | AB13: 0 | AC13: 0 | AD13: 0 | AE13: 0 | AF13: 0 | AG13: 0 | AH13: 0 | AI13: 0 | AJ13: 0 | AK13: 0 | AL13: 0 | AM13: 0 | AN13: 0 | AO13: 0 | AP13: 0 | AQ13: 0 | AR13: 0 | AS13: 0 | AT13: 0 | AU13: 0 | AV13: 0 | AW13: 0
A14: 2 | B14: Yaşıl olmayan dayanıqlılıqla əlaqəli kreditlər | C14: =F14+H14+J14+L14+N14+P14+R14+T14+X14+V14+Z14+AB14+AD14+AH14+AF14+AJ14+AL14+AN14+AP14+AR14+AT14+AV14 -> 20 | D14: =(G14+I14+K14+M14+O14+Q14+S14+U14+Y14+W14+AA14+AC14+AE14+AI14+AG14+AK14+AM14+AO14+AQ14+AS14+AU14+AW14)/1000000 -> 5.69226 | F14: 0 | G14: 0 | H14: 4 | I14: 274500 | J14: 0 | K14: 0 | L14: 0 | M14: 0 | N14: 0 | O14: 0 | P14: 0 | Q14: 0 | R14: 0 | S14: 0 | T14: 0 | U14: 0 | V14: 0 | W14: 0 | X14: 0 | Y14: 0 | Z14: 0 | AA14: 0 | AB14: 0 | AC14: 0 | AD14: 0 | AE14: 0 | AF14: 0 | AG14: 0 | AH14: 0 | AI14: 0 | AJ14: 0 | AK14: 0 | AL14: 0 | AM14: 0 | AN14: 0 | AO14: 0 | AP14: 0 | AQ14: 0 | AR14: 0 | AS14: 0 | AT14: 0 | AU14: 0 | AV14: 16 | AW14: 5417760
A15: 3 | B15: Digər (qeyri-bank ölkədaxili yaşıl istiqrazlar və s.) | C15: =F15+H15+J15+L15+N15+P15+R15+T15+X15+V15+Z15+AB15+AD15+AH15+AF15+AJ15+AL15+AN15+AP15+AR15+AT15+AV15 -> 0 | D15: =(G15+I15+K15+M15+O15+Q15+S15+U15+Y15+W15+AA15+AC15+AE15+AI15+AG15+AK15+AM15+AO15+AQ15+AS15+AU15+AW15)/1000000 -> 0 | F15: 0 | G15: 0 | H15: 0 | I15: 0 | J15: 0 | K15: 0 | L15: 0 | M15: 0 | N15: 0 | O15: 0 | P15: 0 | Q15: 0 | R15: 0 | S15: 0 | T15: 0 | U15: 0 | V15: 0 | W15: 0 | X15: 0 | Y15: 0 | Z15: 0 | AA15: 0 | AB15: 0 | AC15: 0 | AD15: 0 | AE15: 0 | AF15: 0 | AG15: 0 | AH15: 0 | AI15: 0 | AJ15: 0 | AK15: 0 | AL15: 0 | AM15: 0 | AN15: 0 | AO15: 0 | AP15: 0 | AQ15: 0 | AR15: 0 | AS15: 0 | AT15: 0 | AU15: 0 | AV15: 0 | AW15: 0
B16: Cəmi | C16: =F16+H16+J16+L16+N16+P16+R16+T16+X16+V16+Z16+AB16+AD16+AH16+AF16+AJ16+AL16+AN16+AP16+AR16+AT16+AV16 -> 423 | D16: =(G16+I16+K16+M16+O16+Q16+S16+U16+Y16+W16+AA16+AC16+AE16+AI16+AG16+AK16+AM16+AO16+AQ16+AS16+AU16+AW16)/1000000 -> 222.64842 | F16: =F15+F14+F3 -> 15 | G16: =G15+G14+G3 -> 66820720 | H16: =SUM(H4:H15) -> 8 | I16: =SUM(I4:I15) -> 15388100 | J16: =J9+J4 -> 2 | K16: =K9+K4 -> 683000 | L16: 3 | M16: 2100000 | N16: 0 | O16: 0 | P16: =SUBTOTAL(109,P4:P14) -> 57 | Q16: =SUBTOTAL(109,Q4:Q14) -> 2043610 | R16: =R14+R3 -> 0 | S16: =S14+S3 -> 0 | T16: 0 | U16: 0 | V16: =V14+V3 -> 40 | W16: =W14+W3 -> 1367200 | X16: =X3+X14+X15 -> 116 | Y16: =Y3+Y14+Y15 -> 23076115 | Z16: 0 | AA16: 0 | AB16: =SUM(AB4:AB15) -> 5 | AC16: =SUM(AC4:AC15) -> 1800000 | AD16: 0 | AE16: 0 | AF16: =SUM(AF3,AF15) -> 47 | AG16: =SUM(AG4:AG15) -> 60764157 | AH16: 0 | AI16: 0 | AJ16: 4 | AK16: 1380000 | AL16: 4 | AM16: =SUM(AM4:AM15) -> 1686000 | AN16: 11 | AO16: 3424058 | AP16: =SUM(AP4:AP13) -> 45 | AQ16: =SUM(AQ4:AQ13) -> 19146500 | AR16: 0 | AS16: 0 | AT16: 1 | AU16: 200000 | AV16: 65 | AW16: 22768958
