Workbook

Sheet Mündəricat
A1: Bank Sektoru - 2026 III RÜB
A2: Mündəricat
A3: 1 | B3: 2026 IIIR - Ümumi göstəricilər
A4: 2 | B4: 2026 IIR - Ümumi göstəricilər
A5: 3 | B5: Aktivlər
A6: 4 | B6: Dinamika - Aktivlər
A7: 5 | B7: Kredit Portfeli
A8: 6 | B8: Dinamika - Kredit Portfeli
A9: 7 | B9: Biznes kreditləri
A10: 8 | B10: İstehlak kreditləri
A11: 9 | B11: Daşınmaz əmlak kreditləri
A12: 10 | B12: Depozit Portfeli
A13: 11 | B13: Dinamika - Depozit Portfeli
A14: 12 | B14: Balans Kapitalı
... A25: 23 | B25: ROE

Sheet 2026 IIIR- Ümumi göstəricilər
A1: Sıra | B1: Banklar | C1: Aktivlər (mln. manat) | D1: Cəmi Kreditlər (mln. manat) | E1: Biznes Kreditləri (mln. manat) | F1: İstehlak Kreditləri (mln. manat) | G1: Daşınmaz əmlak kreditləri (mln. manat) | H1: Depozit Portfeli (mln. manat) | I1: Fiziki şəxslərin əmanətləri (mln. manat) | J1: Balans Kapitalı (mln. manat) | K1: o cümlədən, Nizamnamə Kapitalı (mln. manat) | L1: Xalis Mənfəət (mln. manat) | M1: Mənfəət vergisindən əvvəlki mənfəət (mln. manat) | N1: Xalis Əməliyyat Mənfəəti (mln. manat) | O1: Faiz gəlirləri (mln. manat) | P1: Faiz xərcləri (mln. manat) | Q1: Qeyri-faiz gəlirləri (mln. manat) | R1: Qeyri-faiz xərcləri (mln. manat) | S1: Aktivlər üzrə mümkün zərərin ödənilməsi üçün ehtiyat ayırmaları (mln. manat) | T1: Gözlənilməz xərclər | U1: Faiz borcları üzrə yaradılmış məqsədli ehtiyatlar | V1: Mənfəət vergisi | W1: Hesablanmış XƏM | X1: Hesablanmış XƏM ilə Faktikinin fərqi | Y1: XM yoxlama
A2: 1 | B2: ABB ASC | C2: 16117.578 | D2: 7854.1398 | E2: 3801.7532 | F2: 2244.0604 | G2: 1808.3263 | H2: 10704.492 | I2: 4145.0812 | J2: 2322.667 | K2: 1281.2714 | L2: 352.37731 | M2: 430.89212 | N2: =Table623[[#This Row],[Faiz gəlirləri (mln. manat)]]+Table623[[#This Row],[Qeyri-faiz gəlirləri (mln. manat)]]-Table623[[#This Row],[Faiz xərcləri (mln. manat)]]-Table623[[#This Row],[Qeyri-faiz xərcləri (mln. manat)]] -> 542.57322 | O2: 937.19516 | P2: 336.22622 | Q2: 425.37426 | R2: 483.76998 | S2: 96.22525 | U2: 15.45585 | V2: 78.51481 | W2: =O2-P2+Q2-R2 -> 542.57322 | X2: =Table218[[#This Row],[Hesablanmış XƏM]]-N2 -> 0 | Y2: =Table623[[#This Row],[Xalis Mənfəət (mln. manat)]]-Table623[[#This Row],[Xalis Əməliyyat Mənfəəti (mln. manat)]]+V2+Table623[[#This Row],[Faiz borcları üzrə yaradılmış məqsədli ehtiyatlar]]+Table623[[#This Row],[Gözlənilməz xərclər]]+Table623[[#This Row],[Aktivlər üzrə mümkün zərərin ödənilməsi üçün ehtiyat ayırmaları (mln. manat)]] -> 0
A3: 2 | B3: AccessBank QSC | C3: 1883.681 | D3: 1421.626 | E3: 1074.036 | F3: 315.208 | G3: 32.382 | H3: 1092.011 | I3: 897.715 | J3: 238.724 | K3: 121.75 | L3: 45.246 | M3: 56.558 | N3: =Table623[[#This Row],[Faiz gəlirləri (mln. manat)]]+Table623[[#This Row],[Qeyri-faiz gəlirləri (mln. manat)]]-Table623[[#This Row],[Faiz xərcləri (mln. manat)]]-Table623[[#This Row],[Qeyri-faiz xərcləri (mln. manat)]] -> 63.575 | O3: 216.07 | P3: 85.705 | Q3: 12.714 | R3: 79.504 | S3: 7.018 | V3: 11.312 | W3: =O3-P3+Q3-R3 -> 63.575 | X3: =Table218[[#This Row],[Hesablanmış XƏM]]-N3 -> 0 | Y3: =Table623[[#This Row],[Xalis Mənfəət (mln. manat)]]-Table623[[#This Row],[Xalis Əməliyyat Mənfəəti (mln. manat)]]+V3+Table623[[#This Row],[Faiz borcları üzrə yaradılmış məqsədli ehtiyatlar]]+Table623[[#This Row],[Gözlənilməz xərclər]]+Table623[[#This Row],[Aktivlər üzrə mümkün zərərin ödənilməsi üçün ehtiyat ayırmaları (mln. manat)]] -> 0.001
A4: 3 | B4: AFB Bank ASC | C4: 574.42536 | D4: 413.3942 | E4: 238.18831 | F4: 103.21746 | G4: 71.98848 | H4: 369.93541 | I4: 235.51923 | J4: 79.12385 | K4: 70.39346 | L4: 3.60252 | M4: 3.60252 | N4: =Table623[[#This Row],[Faiz gəlirləri (mln. manat)]]+Table623[[#This Row],[Qeyri-faiz gəlirləri (mln. manat)]]-Table623[[#This Row],[Faiz xərcləri (mln. manat)]]-Table623[[#This Row],[Qeyri-faiz xərcləri (mln. manat)]] -> 3.279546 | O4: 38.936096 | P4: 19.70259 | Q4: 10.06471 | R4: 26.01867 | S4: -0.32211 | W4: =O4-P4+Q4-R4 -> 3.279546 | X4: =Table218[[#This Row],[Hesablanmış XƏM]]-N4 -> 0 | Y4: =Table623[[#This Row],[Xalis Mənfəət (mln. manat)]]-Table623[[#This Row],[Xalis Əməliyyat Mənfəəti (mln. manat)]]+V4+Table623[[#This Row],[Faiz borcları üzrə yaradılmış məqsədli ehtiyatlar]]+Table623[[#This Row],[Gözlənilməz xərclər]]+Table623[[#This Row],[Aktivlər üzrə mümkün zərərin ödənilməsi üçün ehtiyat ayırmaları (mln. manat)]] -> 0.000864
A5: 4 | B5: Azər Türk Bank ASC | C5: 2184.024 | D5: 944.912 | E5: 303.244 | F5: 424.071 | G5: 217.597 | H5: 1668.241 | I5: 344.757 | J5: 135.114 | K5: 100.5 | L5: 15.166 | M5: 18.958 | N5: =Table623[[#This Row],[Faiz gəlirləri (mln. manat)]]+Table623[[#This Row],[Qeyri-faiz gəlirləri (mln. manat)]]-Table623[[#This Row],[Faiz xərcləri (mln. manat)]]-Table623[[#This Row],[Qeyri-faiz xərcləri (mln. manat)]] -> 24.32 | O5: 105.69 | P5: 57.134 | Q5: 37.175 | R5: 61.411 | S5: 5.362 | V5: 3.792 | W5: =O5-P5+Q5-R5 -> 24.32 | X5: =Table218[[#This Row],[Hesablanmış XƏM]]-N5 -> 0 | Y5: =Table623[[#This Row],[Xalis Mənfəət (mln. manat)]]-Table623[[#This Row],[Xalis Əməliyyat Mənfəəti (mln. manat)]]+V5+Table623[[#This Row],[Faiz borcları üzrə yaradılmış məqsədli ehtiyatlar]]+Table623[[#This Row],[Gözlənilməz xərclər]]+Table623[[#This Row],[Aktivlər üzrə mümkün zərərin ödənilməsi üçün ehtiyat ayırmaları (mln. manat)]] -> -7.1054274e-15
A6: 5 | B6: Azərbaycan Sənaye Bankı ASC | C6: 855.547 | D6: 394.672 | E6: 358.837 | F6: 5.946 | G6: 29.89 | H6: 511.415 | I6: 302.371 | J6: 133.711 | K6: 60 | L6: 5.42702 | M6: 6.88401 | N6: =Table623[[#This Row],[Faiz gəlirləri (mln. manat)]]+Table623[[#This Row],[Qeyri-faiz gəlirləri (mln. manat)]]-Table623[[#This Row],[Faiz xərcləri (mln. manat)]]-Table623[[#This Row],[Qeyri-faiz xərcləri (mln. manat)]] -> 6.79716 | O6: 35.372 | P6: 19.81966 | Q6: 12.67879 | R6: 21.43397 | S6: -0.09033 | V6: 1.45699 | W6: =O6-P6+Q6-R6 -> 6.79716 | X6: =Table218[[#This Row],[Hesablanmış XƏM]]-N6 -> 0 | Y6: =Table623[[#This Row],[Xalis Mənfəət (mln. manat)]]-Table623[[#This Row],[Xalis Əməliyyat Mənfəəti (mln. manat)]]+V6+Table623[[#This Row],[Faiz borcları üzrə yaradılmış məqsədli ehtiyatlar]]+Table623[[#This Row],[Gözlənilməz xərclər]]+Table623[[#This Row],[Aktivlər üzrə mümkün zərərin ödənilməsi üçün ehtiyat ayırmaları (mln. manat)]] -> -0.00348
A7: 6 | B7: Bank Avrasiya ASC | C7: 239.15371 | D7: 139.53027 | E7: 51.24291 | F7: 26.67769 | G7: 61.60967 | H7: 89.72346 | I7: 80.37182 | J7: 94.37441 | K7: 71.8 | L7: 3.99641 | M7: 3.99641 | N7: =Table623[[#This Row],[Faiz gəlirləri (mln. manat)]]+Table623[[#This Row],[Qeyri-faiz gəlirləri (mln. manat)]]-Table623[[#This Row],[Faiz xərcləri (mln. manat)]]-Table623[[#This Row],[Qeyri-faiz xərcləri (mln. manat)]] -> 4.727675 | O7: 13.683355 | P7: 2.98762 | Q7: 2.56766 | R7: 8.53572 | S7: 0.31406 | T7: -0.16416 | U7: 0.58156 | W7: =O7-P7+Q7-R7 -> 4.727675 | X7: =Table218[[#This Row],[Hesablanmış XƏM]]-N7 -> 0 | Y7: =Table623[[#This Row],[Xalis Mənfəət (mln. manat)]]-Table623[[#This Row],[Xalis Əməliyyat Mənfəəti (mln. manat)]]+V7+Table623[[#This Row],[Faiz borcları üzrə yaradılmış məqsədli ehtiyatlar]]+Table623[[#This Row],[Gözlənilməz xərclər]]+Table623[[#This Row],[Aktivlər üzrə mümkün zərərin ödənilməsi üçün ehtiyat ayırmaları (mln. manat)]] -> 0.000195
A8: 7 | B8: Bank Melli İran Bakı filialı | C8: 114.28087 | D8: 3.54817 | E8: 2.49308 | F8: 0.96028 | G8: 0.09481 | H8: 35.64614 | J8: 56.496799 | K8: 73.611171 | L8: 3.144203 | M8: 3.144203 | N8: =Table623[[#This Row],[Faiz gəlirləri (mln. manat)]]+Table623[[#This Row],[Qeyri-faiz gəlirləri (mln. manat)]]-Table623[[#This Row],[Faiz xərcləri (mln. manat)]]-Table623[[#This Row],[Qeyri-faiz xərcləri (mln. manat)]] -> 2.4430305 | O8: 3.9347846 | P8: 0 | Q8: =0.02005236+0.02618269+0.00166672+0.000481 -> 0.04838277 | R8: =0.07191934+0.05597634+1.41224117 -> 1.5401368 | S8: -0.70117292 | W8: =O8-P8+Q8-R8 -> 2.4430305 | X8: =Table218[[#This Row],[Hesablanmış XƏM]]-N8 -> 0 | Y8: =Table623[[#This Row],[Xalis Mənfəət (mln. manat)]]-Table623[[#This Row],[Xalis Əməliyyat Mənfəəti (mln. manat)]]+V8+Table623[[#This Row],[Faiz borcları üzrə yaradılmış məqsədli ehtiyatlar]]+Table623[[#This Row],[Gözlənilməz xərclər]]+Table623[[#This Row],[Aktivlər üzrə mümkün zərərin ödənilməsi üçün ehtiyat ayırmaları (mln. manat)]] -> -4e-07
A9: 8 | B9: Bank of Baku ASC | C9: 1566.3151 | D9: 1171.9883 | E9: 188.69879 | F9: 911.0405 | G9: 72.24899 | H9: 1059.0903 | I9: 913.94238 | J9: 193.58736 | K9: 52.87 | L9: 27.04536 | M9: 34.94443 | N9: =Table623[[#This Row],[Faiz gəlirləri (mln. manat)]]+Table623[[#This Row],[Qeyri-faiz gəlirləri (mln. manat)]]-Table623[[#This Row],[Faiz xərcləri (mln. manat)]]-Table623[[#This Row],[Qeyri-faiz xərcləri (mln. manat)]] -> 36.32641 | O9: 164.09271 | P9: 73.42683 | Q9: 18.2833 | R9: 72.62277 | S9: 1.52458 | U9: =Table623[[#This Row],[Faiz gəlirləri (mln. manat)]]-Table623[[#This Row],[Faiz xərcləri (mln. manat)]]-90.80848 -> -0.1426 | V9: 7.89907 | W9: =O9-P9+Q9-R9 -> 36.32641 | X9: =Table218[[#This Row],[Hesablanmış XƏM]]-N9 -> 0 | Y9: =Table623[[#This Row],[Xalis Mənfəət (mln. manat)]]-Table623[[#This Row],[Xalis Əməliyyat Mənfəəti (mln. manat)]]+V9+Table623[[#This Row],[Faiz borcları üzrə yaradılmış məqsədli ehtiyatlar]]+Table623[[#This Row],[Gözlənilməz xərclər]]+Table623[[#This Row],[Aktivlər üzrə mümkün zərərin ödənilməsi üçün ehtiyat ayırmaları (mln. manat)]] -> 0
A10: 9 | B10: Bank Respublika ASC | C10: 2658.6194 | D10: 1757.7561 | E10: 1176.8009 | F10: 398.45367 | G10: 182.5015 | H10: 1096.564 | I10: 604.73849 | J10: 285.82247 | K10: 240.29807 | L10: 50.28543 | M10: 63.05543 | N10: =Table623[[#This Row],[Faiz gəlirləri (mln. manat)]]+Table623[[#This Row],[Qeyri-faiz gəlirləri (mln. manat)]]-Table623[[#This Row],[Faiz xərcləri (mln. manat)]]-Table623[[#This Row],[Qeyri-faiz xərcləri (mln. manat)]] -> 67.169048 | O10: 240.40366 | P10: 95.451137 | Q10: 36.52348 | R10: 114.30696 | S10: 4.1136181 | V10: 12.77 | W10: =O10-P10+Q10-R10 -> 67.169048 | X10: =Table218[[#This Row],[Hesablanmış XƏM]]-N10 -> 0 | Y10: =Table623[[#This Row],[Xalis Mənfəət (mln. manat)]]-Table623[[#This Row],[Xalis Əməliyyat Mənfəəti (mln. manat)]]+V10+Table623[[#This Row],[Faiz borcları üzrə yaradılmış məqsədli ehtiyatlar]]+Table623[[#This Row],[Gözlənilməz xərclər]]+Table623[[#This Row],[Aktivlər üzrə mümkün zərərin ödənilməsi üçün ehtiyat ayırmaları (mln. manat)]] -> 1.5099033e-14
A11: 10 | B11: Bank VTB (Azərbaycan) ASC | C11: 367.78951 | D11: 304.04349 | E11: 68.70736 | F11: 163.91839 | G11: 71.41774 | H11: 153.42269 | I11: 126.58976 | J11: 118.33561 | K11: 315.815 | L11: 7.67836 | M11: 7.5299 | N11: =Table623[[#This Row],[Faiz gəlirləri (mln. manat)]]+Table623[[#This Row],[Qeyri-faiz gəlirləri (mln. manat)]]-Table623[[#This Row],[Faiz xərcləri (mln. manat)]]-Table623[[#This Row],[Qeyri-faiz xərcləri (mln. manat)]] -> 7.20496 | O11: 31.28032 | P11: 9.35759 | Q11: 10.17532 | R11: 24.89309 | S11: -0.32494 | V11: -0.14846 | W11: =O11-P11+Q11-R11 -> 7.20496 | X11: =Table218[[#This Row],[Hesablanmış XƏM]]-N11 -> 0 | Y11: =Table623[[#This Row],[Xalis Mənfəət (mln. manat)]]-Table623[[#This Row],[Xalis Əməliyyat Mənfəəti (mln. manat)]]+V11+Table623[[#This Row],[Faiz borcları üzrə yaradılmış məqsədli ehtiyatlar]]+Table623[[#This Row],[Gözlənilməz xərclər]]+Table623[[#This Row],[Aktivlər üzrə mümkün zərərin ödənilməsi üçün ehtiyat ayırmaları (mln. manat)]] -> 0
A12: 11 | B12: Expressbank ASC | C12: 725.447 | D12: 592.364 | E12: 222.954 | F12: 239.039 | G12: 130.372 | H12: 372.203 | I12: 329.994 | J12: 130.898 | K12: 112.545 | L12: 9.94193 | M12: 12.47454 | N12: =Table623[[#This Row],[Faiz gəlirləri (mln. manat)]]+Table623[[#This Row],[Qeyri-faiz gəlirləri (mln. manat)]]-Table623[[#This Row],[Faiz xərcləri (mln. manat)]]-Table623[[#This Row],[Qeyri-faiz xərcləri (mln. manat)]] -> 18.53586 | O12: 70.21036 | P12: 26.56206 | Q12: 14.57198 | R12: 39.68442 | S12: 6.06132 | V12: 2.53261 | W12: =O12-P12+Q12-R12 -> 18.53586 | X12: =Table218[[#This Row],[Hesablanmış XƏM]]-N12 -> 0 | Y12: =Table623[[#This Row],[Xalis Mənfəət (mln. manat)]]-Table623[[#This Row],[Xalis Əməliyyat Mənfəəti (mln. manat)]]+V12+Table623[[#This Row],[Faiz borcları üzrə yaradılmış məqsədli ehtiyatlar]]+Table623[[#This Row],[Gözlənilməz xərclər]]+Table623[[#This Row],[Aktivlər üzrə mümkün zərərin ödənilməsi üçün ehtiyat ayırmaları (mln. manat)]] -> 1.4210855e-14
A13: 12 | B13: Kapital Bank ASC | C13: 13919.541 | D13: 6391.31 | E13: 2266.953 | F13: 3536.895 | G13: 587.461 | H13: 10305.862 | I13: 4095.139 | J13: 1344.444 | K13: 265.85 | L13: 297.004 | M13: 382.515 | N13: =Table623[[#This Row],[Faiz gəlirləri (mln. manat)]]+Table623[[#This Row],[Qeyri-faiz gəlirləri (mln. manat)]]-Table623[[#This Row],[Faiz xərcləri (mln. manat)]]-Table623[[#This Row],[Qeyri-faiz xərcləri (mln. manat)]] -> 533.204 | O13: 986.294 | P13: 260.318 | Q13: 523.825 | R13: 716.597 | S13: 140.661 | U13: 10.026 | V13: 85.51 | W13: =O13-P13+Q13-R13 -> 533.204 | X13: =Table218[[#This Row],[Hesablanmış XƏM]]-N13 -> 0 | Y13: =Table623[[#This Row],[Xalis Mənfəət (mln. manat)]]-Table623[[#This Row],[Xalis Əməliyyat Mənfəəti (mln. manat)]]+V13+Table623[[#This Row],[Faiz borcları üzrə yaradılmış məqsədli ehtiyatlar]]+Table623[[#This Row],[Gözlənilməz xərclər]]+Table623[[#This Row],[Aktivlər üzrə mümkün zərərin ödənilməsi üçün ehtiyat ayırmaları (mln. manat)]] -> -0.003
A14: 13 | B14: PAŞA Bank ASC | C14: 9987.063 | D14: 4001.929 | E14: 3682.538 | F14: 58.07 | G14: 261.321 | H14: 7487.038 | I14: 1977.932 | J14: 984.715 | K14: 373.17 | L14: 133.802 | M14: 172.279 | N14: =Table623[[#This Row],[Faiz gəlirləri (mln. manat)]]+Table623[[#This Row],[Qeyri-faiz gəlirləri (mln. manat)]]-Table623[[#This Row],[Faiz xərcləri (mln. manat)]]-Table623[[#This Row],[Qeyri-faiz xərcləri (mln. manat)]] -> 194.281 | O14: 441.585 | P14: 173.176 | Q14: 176.158 | R14: 250.286 | S14: 19.317 | T14: 0.276 | U14: 2.408 | V14: 38.477 | W14: =O14-P14+Q14-R14 -> 194.281 | X14: =Table218[[#This Row],[Hesablanmış XƏM]]-N14 -> 0 | Y14: =Table623[[#This Row],[Xalis Mənfəət (mln. manat)]]-Table623[[#This Row],[Xalis Əməliyyat Mənfəəti (mln. manat)]]+V14+Table623[[#This Row],[Faiz borcları üzrə yaradılmış məqsədli ehtiyatlar]]+Table623[[#This Row],[Gözlənilməz xərclər]]+Table623[[#This Row],[Aktivlər üzrə mümkün zərərin ödənilməsi üçün ehtiyat ayırmaları (mln. manat)]] -> -0.001
A15: 14 | B15: Premium Bank ASC | C15: 678.915 | D15: 496.657 | E15: 362.22 | F15: 61.675 | G15: 72.761 | H15: 402.339 | I15: 309.464 | J15: 198.126 | K15: 174.601 | L15: 12.983 | M15: 12.983 | N15: =Table623[[#This Row],[Faiz gəlirləri (mln. manat)]]+Table623[[#This Row],[Qeyri-faiz gəlirləri (mln. manat)]]-Table623[[#This Row],[Faiz xərcləri (mln. manat)]]-Table623[[#This Row],[Qeyri-faiz xərcləri (mln. manat)]] -> 14.196 | O15: 30.678 | P15: 8.795 | Q15: 14.347 | R15: 22.034 | S15: 1.116 | W15: =O15-P15+Q15-R15 -> 14.196 | X15: =Table218[[#This Row],[Hesablanmış XƏM]]-N15 -> 0 | Y15: =Table623[[#This Row],[Xalis Mənfəət (mln. manat)]]-Table623[[#This Row],[Xalis Əməliyyat Mənfəəti (mln. manat)]]+V15+Table623[[#This Row],[Faiz borcları üzrə yaradılmış məqsədli ehtiyatlar]]+Table623[[#This Row],[Gözlənilməz xərclər]]+Table623[[#This Row],[Aktivlər üzrə mümkün zərərin ödənilməsi üçün ehtiyat ayırmaları (mln. manat)]] -> -0.097
A16: 15 | B16: Rabitəbank ASC | C16: 1453.833 | D16: 1025.413 | E16: 460.097 | F16: 360.55 | G16: 204.767 | H16: 848.074 | I16: 620.195 | J16: 141.504 | K16: 101.3 | L16: 13.757 | M16: 13.757 | N16: =Table623[[#This Row],[Faiz gəlirləri (mln. manat)]]+Table623[[#This Row],[Qeyri-faiz gəlirləri (mln. manat)]]-Table623[[#This Row],[Faiz xərcləri (mln. manat)]]-Table623[[#This Row],[Qeyri-faiz xərcləri (mln. manat)]] -> 24.975 | O16: 118.537 | P16: 54.166 | Q16: 35.614 | R16: 75.01 | S16: 11.218 | W16: =O16-P16+Q16-R16 -> 24.975 | X16: =Table218[[#This Row],[Hesablanmış XƏM]]-N16 -> 0 | Y16: =Table623[[#This Row],[Xalis Mənfəət (mln. manat)]]-Table623[[#This Row],[Xalis Əməliyyat Mənfəəti (mln. manat)]]+V16+Table623[[#This Row],[Faiz borcları üzrə yaradılmış məqsədli ehtiyatlar]]+Table623[[#This Row],[Gözlənilməz xərclər]]+Table623[[#This Row],[Aktivlər üzrə mümkün zərərin ödənilməsi üçün ehtiyat ayırmaları (mln. manat)]] -> 0
A17: 16 | B17: TuranBank ASC | C17: 909.718 | D17: 669.812 | E17: 318.161 | F17: 211.969 | G17: 139.681 | H17: 425.657 | I17: 384.781 | J17: 106.417 | K17: 100.006 | L17: 2.172 | M17: 2.172 | N17: =Table623[[#This Row],[Faiz gəlirləri (mln. manat)]]+Table623[[#This Row],[Qeyri-faiz gəlirləri (mln. manat)]]-Table623[[#This Row],[Faiz xərcləri (mln. manat)]]-Table623[[#This Row],[Qeyri-faiz xərcləri (mln. manat)]] -> 21.907 | O17: 84.622 | P17: 49.936 | Q17: 22.307 | R17: 35.086 | S17: 19.606 | U17: 0.129 | W17: =O17-P17+Q17-R17 -> 21.907 | X17: =Table218[[#This Row],[Hesablanmış XƏM]]-N17 -> 0 | Y17: =Table623[[#This Row],[Xalis Mənfəət (mln. manat)]]-Table623[[#This Row],[Xalis Əməliyyat Mənfəəti (mln. manat)]]+V17+Table623[[#This Row],[Faiz borcları üzrə yaradılmış məqsədli ehtiyatlar]]+Table623[[#This Row],[Gözlənilməz xərclər]]+Table623[[#This Row],[Aktivlər üzrə mümkün zərərin ödənilməsi üçün ehtiyat ayırmaları (mln. manat)]] -> 0
A18: 17 | B18: Unibank KB ASC | C18: 2373.617 | D18: 1528.236 | E18: 732.792 | F18: 676.593 | G18: 118.85 | H18: 1441.524 | I18: 1112.283 | J18: 224.156 | K18: 138.2 | L18: 26.61 | M18: 32.41 | N18: =Table623[[#This Row],[Faiz gəlirləri (mln. manat)]]+Table623[[#This Row],[Qeyri-faiz gəlirləri (mln. manat)]]-Table623[[#This Row],[Faiz xərcləri (mln. manat)]]-Table623[[#This Row],[Qeyri-faiz xərcləri (mln. manat)]] -> 58.703 | O18: 222.885 | P18: 94.211 | Q18: 109.879 | R18: 179.85 | S18: 20.67 | U18: 5.624 | V18: 5.8 | W18: =O18-P18+Q18-R18 -> 58.703 | X18: =Table218[[#This Row],[Hesablanmış XƏM]]-N18 -> 0 | Y18: =Table623[[#This Row],[Xalis Mənfəət (mln. manat)]]-Table623[[#This Row],[Xalis Əməliyyat Mənfəəti (mln. manat)]]+V18+Table623[[#This Row],[Faiz borcları üzrə yaradılmış məqsədli ehtiyatlar]]+Table623[[#This Row],[Gözlənilməz xərclər]]+Table623[[#This Row],[Aktivlər üzrə mümkün zərərin ödənilməsi üçün ehtiyat ayırmaları (mln. manat)]] -> 0.001
A19: 18 | B19: Xalq Bank ASC | C19: 2827.8673 | D19: 1930.077 | E19: 1212.174 | F19: 284.972 | G19: 432.931 | H19: 1598.4549 | I19: 698.49 | J19: 536.08 | K19: 477.09403 | L19: 24.07342 | M19: 34.63938 | N19: =Table623[[#This Row],[Faiz gəlirləri (mln. manat)]]+Table623[[#This Row],[Qeyri-faiz gəlirləri (mln. manat)]]-Table623[[#This Row],[Faiz xərcləri (mln. manat)]]-Table623[[#This Row],[Qeyri-faiz xərcləri (mln. manat)]] -> 33.25469 | O19: 152.87386 | P19: 58.48147 | Q19: 31.49235 | R19: 92.63005 | S19: -1.38469 | V19: 10.56596 | W19: =O19-P19+Q19-R19 -> 33.25469 | X19: =Table218[[#This Row],[Hesablanmış XƏM]]-N19 -> 0 | Y19: =Table623[[#This Row],[Xalis Mənfəət (mln. manat)]]-Table623[[#This Row],[Xalis Əməliyyat Mənfəəti (mln. manat)]]+V19+Table623[[#This Row],[Faiz borcları üzrə yaradılmış məqsədli ehtiyatlar]]+Table623[[#This Row],[Gözlənilməz xərclər]]+Table623[[#This Row],[Aktivlər üzrə mümkün zərərin ödənilməsi üçün ehtiyat ayırmaları (mln. manat)]] -> 2.6645353e-15
A20: 19 | B20: Yapı Kredi Bank Azərbaycan QSC | C20: 1008.9381 | D20: 563.17138 | E20: 391.27823 | F20: 101.26114 | G20: 70.63201 | H20: 630.60339 | I20: 105.46882 | J20: 136.44173 | K20: 55.3807 | L20: 9.24676 | M20: 11.76847 | N20: =Table623[[#This Row],[Faiz gəlirləri (mln. manat)]]+Table623[[#This Row],[Qeyri-faiz gəlirləri (mln. manat)]]-Table623[[#This Row],[Faiz xərcləri (mln. manat)]]-Table623[[#This Row],[Qeyri-faiz xərcləri (mln. manat)]] -> 18.73847 | O20: 51.7817 | P20: 19.30783 | Q20: 24.34786 | R20: 38.08326 | S20: 6.97 | V20: 2.52172 | W20: =O20-P20+Q20-R20 -> 18.73847 | X20: =Table218[[#This Row],[Hesablanmış XƏM]]-N20 -> 0 | Y20: =Table623[[#This Row],[Xalis Mənfəət (mln. manat)]]-Table623[[#This Row],[Xalis Əməliyyat Mənfəəti (mln. manat)]]+V20+Table623[[#This Row],[Faiz borcları üzrə yaradılmış məqsədli ehtiyatlar]]+Table623[[#This Row],[Gözlənilməz xərclər]]+Table623[[#This Row],[Aktivlər üzrə mümkün zərərin ödənilməsi üçün ehtiyat ayırmaları (mln. manat)]] -> 1e-05
A21: 20 | B21: Yelo Bank ASC | C21: 1558.6498 | D21: 1150.2909 | E21: 720.45056 | F21: 319.09724 | G21: 110.74309 | H21: 1091.2689 | I21: 945.74678 | J21: 194.66186 | K21: 378 | L21: 17.25682 | M21: 21.55682 | N21: =Table623[[#This Row],[Faiz gəlirləri (mln. manat)]]+Table623[[#This Row],[Qeyri-faiz gəlirləri (mln. manat)]]-Table623[[#This Row],[Faiz xərcləri (mln. manat)]]-Table623[[#This Row],[Qeyri-faiz xərcləri (mln. manat)]] -> 32.58085 | O21: 153.5205 | P21: 61.29681 | Q21: 6.9801 | R21: 66.62294 | S21: 6.52713 | U21: 4.4969 | V21: 4.3 | W21: =O21-P21+Q21-R21 -> 32.58085 | X21: =Table218[[#This Row],[Hesablanmış XƏM]]-N21 -> 0 | Y21: =Table623[[#This Row],[Xalis Mənfəət (mln. manat)]]-Table623[[#This Row],[Xalis Əməliyyat Mənfəəti (mln. manat)]]+V21+Table623[[#This Row],[Faiz borcları üzrə yaradılmış məqsədli ehtiyatlar]]+Table623[[#This Row],[Gözlənilməz xərclər]]+Table623[[#This Row],[Aktivlər üzrə mümkün zərərin ödənilməsi üçün ehtiyat ayırmaları (mln. manat)]] -> 0
A22: 21 | B22: Ziraat Bank Azərbaycan ASC | C22: 1616.6273 | D22: 949.04 | E22: 851.245 | F22: 38.00387 | G22: 59.78675 | H22: 874.1 | I22: 204.94 | J22: 183.25 | K22: 65.5 | L22: 20.9576 | M22: 26.4328 | N22: =Table623[[#This Row],[Faiz gəlirləri (mln. manat)]]+Table623[[#This Row],[Qeyri-faiz gəlirləri (mln. manat)]]-Table623[[#This Row],[Faiz xərcləri (mln. manat)]]-Table623[[#This Row],[Qeyri-faiz xərcləri (mln. manat)]] -> 36.7202 | O22: 83.1651 | P22: 42.1755 | Q22: 20.5143 | R22: 24.7837 | S22: 10.367 | T22: -0.0795 | U22: 0 | V22: 5.4751 | W22: =O22-P22+Q22-R22 -> 36.7202 | X22: =Table218[[#This Row],[Hesablanmış XƏM]]-N22 -> 0 | Y22: =Table623[[#This Row],[Xalis Mənfəət (mln. manat)]]-Table623[[#This Row],[Xalis Əməliyyat Mənfəəti (mln. manat)]]+V22+Table623[[#This Row],[Faiz borcları üzrə yaradılmış məqsədli ehtiyatlar]]+Table623[[#This Row],[Gözlənilməz xərclər]]+Table623[[#This Row],[Aktivlər üzrə mümkün zərərin ödənilməsi üçün ehtiyat ayırmaları (mln. manat)]] -> 0

Sheet 2026 IIR- Ümumi göstəricilər
A1: Sıra | B1: Banklar | C1: Aktivlər (mln. manat) | D1: Cəmi Kreditlər (mln. manat) | E1: Biznes Kreditləri (mln. manat) | F1: İstehlak Kreditləri (mln. manat) | G1: Daşınmaz əmlak kreditləri (mln. manat) | H1: Depozit Portfeli (mln. manat) | I1: Fiziki şəxslərin əmanətləri (mln. manat) | J1: Balans Kapitalı (mln. manat) | K1: o cümlədən, Nizamnamə Kapitalı (mln. manat) | L1: Xalis Mənfəət (mln. manat) | M1: Mənfəət vergisindən əvvəlki mənfəət (mln. manat) | N1: Xalis Əməliyyat Mənfəəti (mln. manat) | O1: Faiz gəlirləri (mln. manat) | P1: Faiz xərcləri (mln. manat) | Q1: Qeyri-faiz gəlirləri (mln. manat) | R1: Qeyri-faiz xərcləri (mln. manat) | S1: Aktivlər üzrə mümkün zərərin ödənilməsi üçün ehtiyat ayırmaları (mln. manat) | T1: Gözlənilməz xərclər | U1: Faiz borcları üzrə yaradılmış məqsədli ehtiyatlar | V1: Mənfəət vergisi | W1: Hesablanmış XƏM | X1: Hesablanmış XƏM ilə Faktikinin fərqi | Y1: XM yoxlama
A2: 1 | B2: ABB ASC | C2: 15304.532 | D2: 7601.9687 | E2: 3664.7321 | F2: 2159.6946 | G2: 1777.5421 | H2: 9257.0943 | I2: 3893.8041 | J2: 2231.782 | K2: 1281.2714 | L2: 250.55595 | M2: 299.57076 | N2: =Table6[[#This Row],[Faiz gəlirləri (mln. manat)]]-Table6[[#This Row],[Faiz xərcləri (mln. manat)]]+Table6[[#This Row],[Qeyri-faiz gəlirləri (mln. manat)]]-Table6[[#This Row],[Qeyri-faiz xərcləri (mln. manat)]] -> 366.86101 | O2: 613.2319 | P2: 219.72132 | Q2: 290.14379 | R2: 316.79336 | S2: 56.09097 | U2: 11.19928 | V2: 49.01481 | W2: =O2-P2+Q2-R2 -> 366.86101 | X2: =Table2[[#This Row],[Hesablanmış XƏM]]-N2 -> 0 | Y2: =Table6[[#This Row],[Xalis Mənfəət (mln. manat)]]-Table6[[#This Row],[Xalis Əməliyyat Mənfəəti (mln. manat)]]+V2+Table6[[#This Row],[Faiz borcları üzrə yaradılmış məqsədli ehtiyatlar]]+Table6[[#This Row],[Gözlənilməz xərclər]]+Table6[[#This Row],[Aktivlər üzrə mümkün zərərin ödənilməsi üçün ehtiyat ayırmaları (mln. manat)]] -> 0 | AA2: =Table6[[#This Row],[Daşınmaz əmlak kreditləri (mln. manat)]]+Table6[[#This Row],[İstehlak Kreditləri (mln. manat)]]+Table6[[#This Row],[Biznes Kreditləri (mln. manat)]]-Table6[[#This Row],[Cəmi Kreditlər (mln. manat) ]] -> 0
A3: 2 | B3: AccessBank QSC | C3: 1785.111 | D3: 1381.387 | E3: 1042.14 | F3: 311.447 | G3: 27.8 | H3: 1084.628 | I3: 894.013 | J3: 261.371 | K3: 121.75 | L3: 28.097 | M3: 35.121 | N3: =Table6[[#This Row],[Faiz gəlirləri (mln. manat)]]-Table6[[#This Row],[Faiz xərcləri (mln. manat)]]+Table6[[#This Row],[Qeyri-faiz gəlirləri (mln. manat)]]-Table6[[#This Row],[Qeyri-faiz xərcləri (mln. manat)]] -> 41.321 | O3: 141.29 | P3: 56.352 | Q3: 8.558 | R3: 52.175 | S3: 6.2 | V3: 7.024 | W3: =O3-P3+Q3-R3 -> 41.321 | X3: =Table2[[#This Row],[Hesablanmış XƏM]]-N3 -> 0 | Y3: =Table6[[#This Row],[Xalis Mənfəət (mln. manat)]]-Table6[[#This Row],[Xalis Əməliyyat Mənfəəti (mln. manat)]]+V3+Table6[[#This Row],[Faiz borcları üzrə yaradılmış məqsədli ehtiyatlar]]+Table6[[#This Row],[Gözlənilməz xərclər]]+Table6[[#This Row],[Aktivlər üzrə mümkün zərərin ödənilməsi üçün ehtiyat ayırmaları (mln. manat)]] -> 1.7763568e-14 | AA3: =Table6[[#This Row],[Daşınmaz əmlak kreditləri (mln. manat)]]+Table6[[#This Row],[İstehlak Kreditləri (mln. manat)]]+Table6[[#This Row],[Biznes Kreditləri (mln. manat)]]-Table6[[#This Row],[Cəmi Kreditlər (mln. manat) ]] -> 0
A4: 3 | B4: AFB Bank ASC | C4: 536.9163 | D4: 394.369 | E4: 236.88038 | F4: 88.46923 | G4: 69.01939 | H4: 342.28894 | I4: 219.03935 | J4: 75.49016 | K4: 70.39346 | L4: 0.23709 | M4: 0.23709 | N4: =Table6[[#This Row],[Faiz gəlirləri (mln. manat)]]-Table6[[#This Row],[Faiz xərcləri (mln. manat)]]+Table6[[#This Row],[Qeyri-faiz gəlirləri (mln. manat)]]-Table6[[#This Row],[Qeyri-faiz xərcləri (mln. manat)]] -> 0.84815 | O4: 24.19796 | P4: 12.04148 | Q4: 5.28657 | R4: 16.5949 | S4: 0.61106 | W4: =O4-P4+Q4-R4 -> 0.84815 | X4: =Table2[[#This Row],[Hesablanmış XƏM]]-N4 -> 0 | Y4: =Table6[[#This Row],[Xalis Mənfəət (mln. manat)]]-Table6[[#This Row],[Xalis Əməliyyat Mənfəəti (mln. manat)]]+V4+Table6[[#This Row],[Faiz borcları üzrə yaradılmış məqsədli ehtiyatlar]]+Table6[[#This Row],[Gözlənilməz xərclər]]+Table6[[#This Row],[Aktivlər üzrə mümkün zərərin ödənilməsi üçün ehtiyat ayırmaları (mln. manat)]] -> 0 | AA4: =Table6[[#This Row],[Daşınmaz əmlak kreditləri (mln. manat)]]+Table6[[#This Row],[İstehlak Kreditləri (mln. manat)]]+Table6[[#This Row],[Biznes Kreditləri (mln. manat)]]-Table6[[#This Row],[Cəmi Kreditlər (mln. manat) ]] -> 0
A5: 4 | B5: Azər Türk Bank ASC | C5: 2048.267 | D5: 828.184 | E5: 263.186 | F5: 351.285 | G5: 213.713 | H5: 1489.575 | I5: 220.48 | J5: 128.452 | K5: 100.5 | L5: 10.276 | M5: 12.845 | N5: =Table6[[#This Row],[Faiz gəlirləri (mln. manat)]]-Table6[[#This Row],[Faiz xərcləri (mln. manat)]]+Table6[[#This Row],[Qeyri-faiz gəlirləri (mln. manat)]]-Table6[[#This Row],[Qeyri-faiz xərcləri (mln. manat)]] -> 15.343 | O5: 69.812 | P5: 37.857 | Q5: 22.658 | R5: 39.27 | S5: 2.498 | V5: 2.569 | W5: =O5-P5+Q5-R5 -> 15.343 | X5: =Table2[[#This Row],[Hesablanmış XƏM]]-N5 -> 0 | Y5: =Table6[[#This Row],[Xalis Mənfəət (mln. manat)]]-Table6[[#This Row],[Xalis Əməliyyat Mənfəəti (mln. manat)]]+V5+Table6[[#This Row],[Faiz borcları üzrə yaradılmış məqsədli ehtiyatlar]]+Table6[[#This Row],[Gözlənilməz xərclər]]+Table6[[#This Row],[Aktivlər üzrə mümkün zərərin ödənilməsi üçün ehtiyat ayırmaları (mln. manat)]] -> 3.5527137e-15 | AA5: =Table6[[#This Row],[Daşınmaz əmlak kreditləri (mln. manat)]]+Table6[[#This Row],[İstehlak Kreditləri (mln. manat)]]+Table6[[#This Row],[Biznes Kreditləri (mln. manat)]]-Table6[[#This Row],[Cəmi Kreditlər (mln. manat) ]] -> 0
A6: 5 | B6: Azərbaycan Sənaye Bankı ASC | C6: 874.52478 | D6: 405.42519 | E6: 372.096 | F6: 6.089 | G6: 27.24 | H6: 513.62603 | I6: =19.18992+285.74523 -> 304.93515 | J6: 131.98432 | K6: 60 | L6: 3.44428 | M6: 4.30859 | N6: =Table6[[#This Row],[Faiz gəlirləri (mln. manat)]]-Table6[[#This Row],[Faiz xərcləri (mln. manat)]]+Table6[[#This Row],[Qeyri-faiz gəlirləri (mln. manat)]]-Table6[[#This Row],[Qeyri-faiz xərcləri (mln. manat)]] -> 4.48529 | O6: 23.14683 | P6: 12.81512 | Q6: 8.50704 | R6: 14.35346 | S6: 0.17515 | V6: 0.86431 | W6: =O6-P6+Q6-R6 -> 4.48529 | X6: =Table2[[#This Row],[Hesablanmış XƏM]]-N6 -> 0 | Y6: =Table6[[#This Row],[Xalis Mənfəət (mln. manat)]]-Table6[[#This Row],[Xalis Əməliyyat Mənfəəti (mln. manat)]]+V6+Table6[[#This Row],[Faiz borcları üzrə yaradılmış məqsədli ehtiyatlar]]+Table6[[#This Row],[Gözlənilməz xərclər]]+Table6[[#This Row],[Aktivlər üzrə mümkün zərərin ödənilməsi üçün ehtiyat ayırmaları (mln. manat)]] -> -0.00155 | AA6: =Table6[[#This Row],[Daşınmaz əmlak kreditləri (mln. manat)]]+Table6[[#This Row],[İstehlak Kreditləri (mln. manat)]]+Table6[[#This Row],[Biznes Kreditləri (mln. manat)]]-Table6[[#This Row],[Cəmi Kreditlər (mln. manat) ]] -> -0.00019
A7: 6 | B7: Bank Avrasiya ASC | C7: 218.52806 | D7: 142.25651 | E7: 56.30593 | F7: 25.97952 | G7: 59.97106 | H7: 75.29723 | I7: 69.99506 | J7: 90.79092 | K7: 71.8 | L7: 0.93908 | M7: 0.93908 | N7: =Table6[[#This Row],[Faiz gəlirləri (mln. manat)]]-Table6[[#This Row],[Faiz xərcləri (mln. manat)]]+Table6[[#This Row],[Qeyri-faiz gəlirləri (mln. manat)]]-Table6[[#This Row],[Qeyri-faiz xərcləri (mln. manat)]] -> 3.11409 | O7: 8.71639 | P7: 1.59864 | Q7: 1.64865 | R7: 5.65231 | S7: 2.03891 | T7: -0.164 | U7: 0.30026 | W7: =O7-P7+Q7-R7 -> 3.11409 | X7: =Table2[[#This Row],[Hesablanmış XƏM]]-N7 -> 0 | Y7: =Table6[[#This Row],[Xalis Mənfəət (mln. manat)]]-Table6[[#This Row],[Xalis Əməliyyat Mənfəəti (mln. manat)]]+V7+Table6[[#This Row],[Faiz borcları üzrə yaradılmış məqsədli ehtiyatlar]]+Table6[[#This Row],[Gözlənilməz xərclər]]+Table6[[#This Row],[Aktivlər üzrə mümkün zərərin ödənilməsi üçün ehtiyat ayırmaları (mln. manat)]] -> 0.00016 | AA7: =Table6[[#This Row],[Daşınmaz əmlak kreditləri (mln. manat)]]+Table6[[#This Row],[İstehlak Kreditləri (mln. manat)]]+Table6[[#This Row],[Biznes Kreditləri (mln. manat)]]-Table6[[#This Row],[Cəmi Kreditlər (mln. manat) ]] -> 0
A8: 7 | B8: Bank Melli İran Bakı filialı | C8: 121.53199 | D8: 3.18951 | E8: 1.98436 | F8: 1.106 | G8: 0.09915 | H8: 36.308689 | J8: 55.676908 | K8: 73.611171 | L8: 2.3243126 | M8: 2.3243126 | N8: =Table6[[#This Row],[Faiz gəlirləri (mln. manat)]]-Table6[[#This Row],[Faiz xərcləri (mln. manat)]]+Table6[[#This Row],[Qeyri-faiz gəlirləri (mln. manat)]]-Table6[[#This Row],[Qeyri-faiz xərcləri (mln. manat)]] -> 1.6632536 | O8: 2.6811155 | P8: 0 | Q8: =0.018635+0.01160259+0.00090958+0.000481 -> 0.03162817 | R8: =0.05792271+0.03848839+0.953079 -> 1.0494901 | S8: -0.661059 | W8: =O8-P8+Q8-R8 -> 1.6632536 | X8: =Table2[[#This Row],[Hesablanmış XƏM]]-N8 -> 0 | Y8: =Table6[[#This Row],[Xalis Mənfəət (mln. manat)]]-Table6[[#This Row],[Xalis Əməliyyat Mənfəəti (mln. manat)]]+V8+Table6[[#This Row],[Faiz borcları üzrə yaradılmış məqsədli ehtiyatlar]]+Table6[[#This Row],[Gözlənilməz xərclər]]+Table6[[#This Row],[Aktivlər üzrə mümkün zərərin ödənilməsi üçün ehtiyat ayırmaları (mln. manat)]] -> 2e-08 | AA8: =Table6[[#This Row],[Daşınmaz əmlak kreditləri (mln. manat)]]+Table6[[#This Row],[İstehlak Kreditləri (mln. manat)]]+Table6[[#This Row],[Biznes Kreditləri (mln. manat)]]-Table6[[#This Row],[Cəmi Kreditlər (mln. manat) ]] -> 0
A9: 8 | B9: Bank of Baku ASC | C9: 1391.5616 | D9: 1060.7881 | E9: 172.74861 | F9: 819.79918 | G9: 68.24034 | H9: 948.88944 | I9: 828.63627 | J9: 181.28996 | K9: 52.87 | L9: 16.0757 | M9: 21.0684 | N9: =Table6[[#This Row],[Faiz gəlirləri (mln. manat)]]-Table6[[#This Row],[Faiz xərcləri (mln. manat)]]+Table6[[#This Row],[Qeyri-faiz gəlirləri (mln. manat)]]-Table6[[#This Row],[Qeyri-faiz xərcləri (mln. manat)]] -> 23.3984 | O9: 105.3323 | P9: 46.2766 | Q9: 11.2487 | R9: 46.906 | S9: 2.3299 | U9: 4.9928 | W9: =O9-P9+Q9-R9 -> 23.3984 | X9: =Table2[[#This Row],[Hesablanmış XƏM]]-N9 -> 0 | Y9: =Table6[[#This Row],[Xalis Mənfəət (mln. manat)]]-Table6[[#This Row],[Xalis Əməliyyat Mənfəəti (mln. manat)]]+V9+Table6[[#This Row],[Faiz borcları üzrə yaradılmış məqsədli ehtiyatlar]]+Table6[[#This Row],[Gözlənilməz xərclər]]+Table6[[#This Row],[Aktivlər üzrə mümkün zərərin ödənilməsi üçün ehtiyat ayırmaları (mln. manat)]] -> 0 | AA9: =Table6[[#This Row],[Daşınmaz əmlak kreditləri (mln. manat)]]+Table6[[#This Row],[İstehlak Kreditləri (mln. manat)]]+Table6[[#This Row],[Biznes Kreditləri (mln. manat)]]-Table6[[#This Row],[Cəmi Kreditlər (mln. manat) ]] -> -1e-05
A10: 9 | B10: Bank Respublika ASC | C10: 2716.9248 | D10: 1701.6231 | E10: 1130.9333 | F10: 395.2283 | G10: 175.46145 | H10: 1099.7206 | I10: 602.32766 | J10: 269.53818 | K10: 73.96109 | L10: 34.5136 | M10: 43.9136 | N10: =Table6[[#This Row],[Faiz gəlirləri (mln. manat)]]-Table6[[#This Row],[Faiz xərcləri (mln. manat)]]+Table6[[#This Row],[Qeyri-faiz gəlirləri (mln. manat)]]-Table6[[#This Row],[Qeyri-faiz xərcləri (mln. manat)]] -> 46.094207 | O10: 159.20157 | P10: 63.417406 | Q10: 21.279705 | R10: 70.969666 | S10: 2.1806072 | V10: 9.4 | W10: =O10-P10+Q10-R10 -> 46.094207 | X10: =Table2[[#This Row],[Hesablanmış XƏM]]-N10 -> 0 | Y10: =Table6[[#This Row],[Xalis Mənfəət (mln. manat)]]-Table6[[#This Row],[Xalis Əməliyyat Mənfəəti (mln. manat)]]+V10+Table6[[#This Row],[Faiz borcları üzrə yaradılmış məqsədli ehtiyatlar]]+Table6[[#This Row],[Gözlənilməz xərclər]]+Table6[[#This Row],[Aktivlər üzrə mümkün zərərin ödənilməsi üçün ehtiyat ayırmaları (mln. manat)]] -> -7.6383344e-14 | AA10: =Table6[[#This Row],[Daşınmaz əmlak kreditləri (mln. manat)]]+Table6[[#This Row],[İstehlak Kreditləri (mln. manat)]]+Table6[[#This Row],[Biznes Kreditləri (mln. manat)]]-Table6[[#This Row],[Cəmi Kreditlər (mln. manat) ]] -> 1.9599959e-06
A11: 10 | B11: Bank VTB (Azərbaycan) ASC | C11: 336.85109 | D11: 280.6223 | E11: 70.95746 | F11: 141.31978 | G11: 68.34506 | H11: 121.77799 | I11: 99.24433 | J11: 116.16435 | K11: 315.815 | L11: 5.82552 | M11: 5.21376 | N11: =Table6[[#This Row],[Faiz gəlirləri (mln. manat)]]-Table6[[#This Row],[Faiz xərcləri (mln. manat)]]+Table6[[#This Row],[Qeyri-faiz gəlirləri (mln. manat)]]-Table6[[#This Row],[Qeyri-faiz xərcləri (mln. manat)]] -> 4.65991 | O11: 19.8844 | P11: 5.66489 | Q11: 6.1687 | R11: 15.7283 | S11: -1.1694 | U11: 3.4905 | V11: -0.61176 | W11: =O11-P11+Q11-R11 -> 4.65991 | X11: =Table2[[#This Row],[Hesablanmış XƏM]]-N11 -> 0 | Y11: =Table6[[#This Row],[Xalis Mənfəət (mln. manat)]]-Table6[[#This Row],[Xalis Əməliyyat Mənfəəti (mln. manat)]]+V11+Table6[[#This Row],[Faiz borcları üzrə yaradılmış məqsədli ehtiyatlar]]+Table6[[#This Row],[Gözlənilməz xərclər]]+Table6[[#This Row],[Aktivlər üzrə mümkün zərərin ödənilməsi üçün ehtiyat ayırmaları (mln. manat)]] -> 2.87495 | AA11: =Table6[[#This Row],[Daşınmaz əmlak kreditləri (mln. manat)]]+Table6[[#This Row],[İstehlak Kreditləri (mln. manat)]]+Table6[[#This Row],[Biznes Kreditləri (mln. manat)]]-Table6[[#This Row],[Cəmi Kreditlər (mln. manat) ]] -> 0
A12: 11 | B12: Expressbank ASC | C12: 704.97 | D12: 567.815 | E12: 209.381 | F12: 231.746 | G12: 126.688 | H12: 352.062 | I12: 309.038 | J12: 133.94 | K12: 112.545 | L12: 7.39746 | M12: 9.29835 | N12: =Table6[[#This Row],[Faiz gəlirləri (mln. manat)]]-Table6[[#This Row],[Faiz xərcləri (mln. manat)]]+Table6[[#This Row],[Qeyri-faiz gəlirləri (mln. manat)]]-Table6[[#This Row],[Qeyri-faiz xərcləri (mln. manat)]] -> 12.78291 | O12: 45.87224 | P12: 16.94857 | Q12: 9.17802 | R12: 25.31878 | S12: 3.48456 | V12: 1.90089 | W12: =O12-P12+Q12-R12 -> 12.78291 | X12: =Table2[[#This Row],[Hesablanmış XƏM]]-N12 -> 0 | Y12: =Table6[[#This Row],[Xalis Mənfəət (mln. manat)]]-Table6[[#This Row],[Xalis Əməliyyat Mənfəəti (mln. manat)]]+V12+Table6[[#This Row],[Faiz borcları üzrə yaradılmış məqsədli ehtiyatlar]]+Table6[[#This Row],[Gözlənilməz xərclər]]+Table6[[#This Row],[Aktivlər üzrə mümkün zərərin ödənilməsi üçün ehtiyat ayırmaları (mln. manat)]] -> 0 | AA12: =Table6[[#This Row],[Daşınmaz əmlak kreditləri (mln. manat)]]+Table6[[#This Row],[İstehlak Kreditləri (mln. manat)]]+Table6[[#This Row],[Biznes Kreditləri (mln. manat)]]-Table6[[#This Row],[Cəmi Kreditlər (mln. manat) ]] -> 0
A13: 12 | B13: Kapital Bank ASC | C13: 13271.814 | D13: 5953.948 | E13: 2044.634 | F13: 3323.215 | G13: 586.099 | H13: 9951.241 | I13: 3708.218 | J13: 1339.016 | K13: 265.85 | L13: 221.79 | M13: 280.345 | N13: =Table6[[#This Row],[Faiz gəlirləri (mln. manat)]]-Table6[[#This Row],[Faiz xərcləri (mln. manat)]]+Table6[[#This Row],[Qeyri-faiz gəlirləri (mln. manat)]]-Table6[[#This Row],[Qeyri-faiz xərcləri (mln. manat)]] -> 336.762 | O13: 630.736 | P13: 164.689 | Q13: 341.39 | R13: 470.675 | S13: 50.45 | U13: 5.967 | V13: 58.555 | W13: =O13-P13+Q13-R13 -> 336.762 | X13: =Table2[[#This Row],[Hesablanmış XƏM]]-N13 -> 0 | Y13: =Table6[[#This Row],[Xalis Mənfəət (mln. manat)]]-Table6[[#This Row],[Xalis Əməliyyat Mənfəəti (mln. manat)]]+V13+Table6[[#This Row],[Faiz borcları üzrə yaradılmış məqsədli ehtiyatlar]]+Table6[[#This Row],[Gözlənilməz xərclər]]+Table6[[#This Row],[Aktivlər üzrə mümkün zərərin ödənilməsi üçün ehtiyat ayırmaları (mln. manat)]] -> 0 | AA13: =Table6[[#This Row],[Daşınmaz əmlak kreditləri (mln. manat)]]+Table6[[#This Row],[İstehlak Kreditləri (mln. manat)]]+Table6[[#This Row],[Biznes Kreditləri (mln. manat)]]-Table6[[#This Row],[Cəmi Kreditlər (mln. manat) ]] -> 0
A14: 13 | B14: PAŞA Bank ASC | C14: 9522.354 | D14: 3624.791 | E14: 3309.885 | F14: 60.358 | G14: 254.548 | H14: 7216.161 | I14: 1854.05 | J14: 921.646 | K14: 373.17 | L14: 67.747 | M14: 88.123 | N14: =Table6[[#This Row],[Faiz gəlirləri (mln. manat)]]-Table6[[#This Row],[Faiz xərcləri (mln. manat)]]+Table6[[#This Row],[Qeyri-faiz gəlirləri (mln. manat)]]-Table6[[#This Row],[Qeyri-faiz xərcləri (mln. manat)]] -> 124.94772 | O14: 287.68072 | P14: 110.024 | Q14: 114.14 | R14: 166.849 | S14: 32.873 | U14: 3.953 | V14: 20.376 | W14: =O14-P14+Q14-R14 -> 124.94772 | X14: =Table2[[#This Row],[Hesablanmış XƏM]]-N14 -> 0 | Y14: =Table6[[#This Row],[Xalis Mənfəət (mln. manat)]]-Table6[[#This Row],[Xalis Əməliyyat Mənfəəti (mln. manat)]]+V14+Table6[[#This Row],[Faiz borcları üzrə yaradılmış məqsədli ehtiyatlar]]+Table6[[#This Row],[Gözlənilməz xərclər]]+Table6[[#This Row],[Aktivlər üzrə mümkün zərərin ödənilməsi üçün ehtiyat ayırmaları (mln. manat)]] -> 0.00128 | AA14: =Table6[[#This Row],[Daşınmaz əmlak kreditləri (mln. manat)]]+Table6[[#This Row],[İstehlak Kreditləri (mln. manat)]]+Table6[[#This Row],[Biznes Kreditləri (mln. manat)]]-Table6[[#This Row],[Cəmi Kreditlər (mln. manat) ]] -> 0
A15: 14 | B15: Premium Bank ASC | C15: 668.222 | D15: 496.468 | E15: 357.733 | F15: 65.586 | G15: 73.149 | H15: =312.366+79.993 -> 392.359 | I15: 312.366 | J15: 194.14 | K15: 174.601 | L15: 9.326 | M15: 9.326 | N15: =Table6[[#This Row],[Faiz gəlirləri (mln. manat)]]-Table6[[#This Row],[Faiz xərcləri (mln. manat)]]+Table6[[#This Row],[Qeyri-faiz gəlirləri (mln. manat)]]-Table6[[#This Row],[Qeyri-faiz xərcləri (mln. manat)]] -> 9.944 | O15: 20.311 | P15: 5.863 | Q15: 9.741 | R15: 14.245 | S15: 0.618 | W15: =O15-P15+Q15-R15 -> 9.944 | X15: =Table2[[#This Row],[Hesablanmış XƏM]]-N15 -> 0 | Y15: =Table6[[#This Row],[Xalis Mənfəət (mln. manat)]]-Table6[[#This Row],[Xalis Əməliyyat Mənfəəti (mln. manat)]]+V15+Table6[[#This Row],[Faiz borcları üzrə yaradılmış məqsədli ehtiyatlar]]+Table6[[#This Row],[Gözlənilməz xərclər]]+Table6[[#This Row],[Aktivlər üzrə mümkün zərərin ödənilməsi üçün ehtiyat ayırmaları (mln. manat)]] -> 0 | AA15: =Table6[[#This Row],[Daşınmaz əmlak kreditləri (mln. manat)]]+Table6[[#This Row],[İstehlak Kreditləri (mln. manat)]]+Table6[[#This Row],[Biznes Kreditləri (mln. manat)]]-Table6[[#This Row],[Cəmi Kreditlər (mln. manat) ]] -> 0
A16: 15 | B16: Rabitəbank ASC | C16: 1398.522 | D16: 995.084 | E16: 436.228 | F16: 360.709 | G16: 198.147 | H16: 840.727 | I16: 619.497 | J16: 137.708 | K16: 101.3 | L16: 5.604 | M16: 5.604 | N16: =Table6[[#This Row],[Faiz gəlirləri (mln. manat)]]-Table6[[#This Row],[Faiz xərcləri (mln. manat)]]+Table6[[#This Row],[Qeyri-faiz gəlirləri (mln. manat)]]-Table6[[#This Row],[Qeyri-faiz xərcləri (mln. manat)]] -> 14.225 | O16: 77.616 | P16: 36.03 | Q16: 22.778 | R16: 50.139 | S16: 8.621 | W16: =O16-P16+Q16-R16 -> 14.225 | X16: =Table2[[#This Row],[Hesablanmış XƏM]]-N16 -> 0 | Y16: =Table6[[#This Row],[Xalis Mənfəət (mln. manat)]]-Table6[[#This Row],[Xalis Əməliyyat Mənfəəti (mln. manat)]]+V16+Table6[[#This Row],[Faiz borcları üzrə yaradılmış məqsədli ehtiyatlar]]+Table6[[#This Row],[Gözlənilməz xərclər]]+Table6[[#This Row],[Aktivlər üzrə mümkün zərərin ödənilməsi üçün ehtiyat ayırmaları (mln. manat)]] -> 0 | AA16: =Table6[[#This Row],[Daşınmaz əmlak kreditləri (mln. manat)]]+Table6[[#This Row],[İstehlak Kreditləri (mln. manat)]]+Table6[[#This Row],[Biznes Kreditləri (mln. manat)]]-Table6[[#This Row],[Cəmi Kreditlər (mln. manat) ]] -> 0
A17: 16 | B17: TuranBank ASC | C17: 951.015 | D17: 699.539 | E17: 342.74 | F17: 221.502 | G17: 135.297 | H17: 462.869 | I17: 402.437 | J17: 109.373 | K17: 100.006 | L17: 5.014 | M17: 5.014 | N17: =Table6[[#This Row],[Faiz gəlirləri (mln. manat)]]-Table6[[#This Row],[Faiz xərcləri (mln. manat)]]+Table6[[#This Row],[Qeyri-faiz gəlirləri (mln. manat)]]-Table6[[#This Row],[Qeyri-faiz xərcləri (mln. manat)]] -> 15.24 | O17: 56.568 | P17: 32.712 | Q17: 14.763 | R17: 23.379 | S17: 10.189 | U17: 0.038 | V17: 0 | W17: =O17-P17+Q17-R17 -> 15.24 | X17: =Table2[[#This Row],[Hesablanmış XƏM]]-N17 -> 0 | Y17: =Table6[[#This Row],[Xalis Mənfəət (mln. manat)]]-Table6[[#This Row],[Xalis Əməliyyat Mənfəəti (mln. manat)]]+V17+Table6[[#This Row],[Faiz borcları üzrə yaradılmış məqsədli ehtiyatlar]]+Table6[[#This Row],[Gözlənilməz xərclər]]+Table6[[#This Row],[Aktivlər üzrə mümkün zərərin ödənilməsi üçün ehtiyat ayırmaları (mln. manat)]] -> 0.001 | AA17: =Table6[[#This Row],[Daşınmaz əmlak kreditləri (mln. manat)]]+Table6[[#This Row],[İstehlak Kreditləri (mln. manat)]]+Table6[[#This Row],[Biznes Kreditləri (mln. manat)]]-Table6[[#This Row],[Cəmi Kreditlər (mln. manat) ]] -> 0
A18: 17 | B18: Unibank KB ASC | C18: 2311.377 | D18: 1464.5097 | E18: 693.72798 | F18: 659.81206 | G18: 110.96967 | H18: 1379.0751 | I18: 1112.818 | J18: 214.3546 | K18: 138.20039 | L18: 17.200075 | M18: 19.500075 | N18: =Table6[[#This Row],[Faiz gəlirləri (mln. manat)]]-Table6[[#This Row],[Faiz xərcləri (mln. manat)]]+Table6[[#This Row],[Qeyri-faiz gəlirləri (mln. manat)]]-Table6[[#This Row],[Qeyri-faiz xərcləri (mln. manat)]] -> 32.418402 | O18: 143.28462 | P18: 61.149222 | Q18: 71.343 | R18: 121.06 | S18: 9.1451856 | U18: 3.773 | V18: 2.3 | W18: =O18-P18+Q18-R18 -> 32.418402 | X18: =Table2[[#This Row],[Hesablanmış XƏM]]-N18 -> 0 | Y18: =Table6[[#This Row],[Xalis Mənfəət (mln. manat)]]-Table6[[#This Row],[Xalis Əməliyyat Mənfəəti (mln. manat)]]+V18+Table6[[#This Row],[Faiz borcları üzrə yaradılmış məqsədli ehtiyatlar]]+Table6[[#This Row],[Gözlənilməz xərclər]]+Table6[[#This Row],[Aktivlər üzrə mümkün zərərin ödənilməsi üçün ehtiyat ayırmaları (mln. manat)]] -> -0.00014139449 | AA18: =Table6[[#This Row],[Daşınmaz əmlak kreditləri (mln. manat)]]+Table6[[#This Row],[İstehlak Kreditləri (mln. manat)]]+Table6[[#This Row],[Biznes Kreditləri (mln. manat)]]-Table6[[#This Row],[Cəmi Kreditlər (mln. manat) ]] -> 0
A19: 18 | B19: Xalq Bank ASC | C19: 2832.2735 | D19: 1776.756 | E19: 1010.575 | F19: 241.058 | G19: 525.122 | H19: 1700.7805 | I19: 738.02375 | J19: 523.57962 | K19: 446.59951 | L19: 13.48929 | M19: 20.53333 | N19: =Table6[[#This Row],[Faiz gəlirləri (mln. manat)]]-Table6[[#This Row],[Faiz xərcləri (mln. manat)]]+Table6[[#This Row],[Qeyri-faiz gəlirləri (mln. manat)]]-Table6[[#This Row],[Qeyri-faiz xərcləri (mln. manat)]] -> 21.33306 | O19: 102.91939 | P19: 39.77866 | Q19: 18.14134 | R19: 59.94901 | S19: 0.79973 | V19: 7.04404 | W19: =O19-P19+Q19-R19 -> 21.33306 | X19: =Table2[[#This Row],[Hesablanmış XƏM]]-N19 -> 0 | Y19: =Table6[[#This Row],[Xalis Mənfəət (mln. manat)]]-Table6[[#This Row],[Xalis Əməliyyat Mənfəəti (mln. manat)]]+V19+Table6[[#This Row],[Faiz borcları üzrə yaradılmış məqsədli ehtiyatlar]]+Table6[[#This Row],[Gözlənilməz xərclər]]+Table6[[#This Row],[Aktivlər üzrə mümkün zərərin ödənilməsi üçün ehtiyat ayırmaları (mln. manat)]] -> -2.8865799e-15 | AA19: =Table6[[#This Row],[Daşınmaz əmlak kreditləri (mln. manat)]]+Table6[[#This Row],[İstehlak Kreditləri (mln. manat)]]+Table6[[#This Row],[Biznes Kreditləri (mln. manat)]]-Table6[[#This Row],[Cəmi Kreditlər (mln. manat) ]] -> -0.001
A20: 19 | B20: Yapı Kredi Bank Azərbaycan QSC | C20: 870.73172 | D20: 496.74102 | E20: 334.94517 | F20: 94.603 | G20: 67.13556 | H20: 572.9679 | I20: 103.70046 | J20: 129.9699 | K20: 55.3807 | L20: 4.78913 | M20: 6.37698 | N20: =Table6[[#This Row],[Faiz gəlirləri (mln. manat)]]-Table6[[#This Row],[Faiz xərcləri (mln. manat)]]+Table6[[#This Row],[Qeyri-faiz gəlirləri (mln. manat)]]-Table6[[#This Row],[Qeyri-faiz xərcləri (mln. manat)]] -> 9.64508 | O20: 32.45318 | P20: 11.66477 | Q20: 14.59002 | R20: 25.73335 | S20: 3.26811 | V20: 1.58885 | W20: =O20-P20+Q20-R20 -> 9.64508 | X20: =Table2[[#This Row],[Hesablanmış XƏM]]-N20 -> 0 | Y20: =Table6[[#This Row],[Xalis Mənfəət (mln. manat)]]-Table6[[#This Row],[Xalis Əməliyyat Mənfəəti (mln. manat)]]+V20+Table6[[#This Row],[Faiz borcları üzrə yaradılmış məqsədli ehtiyatlar]]+Table6[[#This Row],[Gözlənilməz xərclər]]+Table6[[#This Row],[Aktivlər üzrə mümkün zərərin ödənilməsi üçün ehtiyat ayırmaları (mln. manat)]] -> 0.00101 | AA20: =Table6[[#This Row],[Daşınmaz əmlak kreditləri (mln. manat)]]+Table6[[#This Row],[İstehlak Kreditləri (mln. manat)]]+Table6[[#This Row],[Biznes Kreditləri (mln. manat)]]-Table6[[#This Row],[Cəmi Kreditlər (mln. manat) ]] -> -0.05729
A21: 20 | B21: Yelo Bank ASC | C21: 1474.995 | D21: 1107.2918 | E21: 687.17849 | F21: 313.99497 | G21: 106.11831 | H21: 1039.1614 | I21: 899.76318 | J21: 189.62622 | K21: 378 | L21: 12.60396 | M21: 15.80396 | N21: =Table6[[#This Row],[Faiz gəlirləri (mln. manat)]]-Table6[[#This Row],[Faiz xərcləri (mln. manat)]]+Table6[[#This Row],[Qeyri-faiz gəlirləri (mln. manat)]]-Table6[[#This Row],[Qeyri-faiz xərcləri (mln. manat)]] -> 22.32818 | O21: 101.66471 | P21: 40.62446 | Q21: 5.11709 | R21: 43.82916 | S21: 3.65745 | U21: 2.86677 | V21: 3.2 | W21: =O21-P21+Q21-R21 -> 22.32818 | X21: =Table2[[#This Row],[Hesablanmış XƏM]]-N21 -> 0 | Y21: =Table6[[#This Row],[Xalis Mənfəət (mln. manat)]]-Table6[[#This Row],[Xalis Əməliyyat Mənfəəti (mln. manat)]]+V21+Table6[[#This Row],[Faiz borcları üzrə yaradılmış məqsədli ehtiyatlar]]+Table6[[#This Row],[Gözlənilməz xərclər]]+Table6[[#This Row],[Aktivlər üzrə mümkün zərərin ödənilməsi üçün ehtiyat ayırmaları (mln. manat)]] -> 0 | AA21: =Table6[[#This Row],[Daşınmaz əmlak kreditləri (mln. manat)]]+Table6[[#This Row],[İstehlak Kreditləri (mln. manat)]]+Table6[[#This Row],[Biznes Kreditləri (mln. manat)]]-Table6[[#This Row],[Cəmi Kreditlər (mln. manat) ]] -> 0
A22: 21 | B22: Ziraat Bank Azərbaycan ASC | C22: 1559.974 | D22: 831.7084 | E22: 734.9285 | F22: 44.2861 | G22: 52.4939 | H22: 866.63196 | I22: 186.68409 | J22: 173.89456 | K22: 65.5 | L22: 11.5908 | M22: 14.5151 | N22: =Table6[[#This Row],[Faiz gəlirləri (mln. manat)]]-Table6[[#This Row],[Faiz xərcləri (mln. manat)]]+Table6[[#This Row],[Qeyri-faiz gəlirləri (mln. manat)]]-Table6[[#This Row],[Qeyri-faiz xərcləri (mln. manat)]] -> 25.4007 | O22: 57.7102 | P22: 27.2593 | Q22: 11.1764 | R22: 16.2266 | S22: 6.9153 | T22: -0.0422 | U22: 4.0124 | V22: 2.9244 | W22: =O22-P22+Q22-R22 -> 25.4007 | X22: =Table2[[#This Row],[Hesablanmış XƏM]]-N22 -> 0 | Y22: =Table6[[#This Row],[Xalis Mənfəət (mln. manat)]]-Table6[[#This Row],[Xalis Əməliyyat Mənfəəti (mln. manat)]]+V22+Table6[[#This Row],[Faiz borcları üzrə yaradılmış məqsədli ehtiyatlar]]+Table6[[#This Row],[Gözlənilməz xərclər]]+Table6[[#This Row],[Aktivlər üzrə mümkün zərərin ödənilməsi üçün ehtiyat ayırmaları (mln. manat)]] -> 0 | AA22: =Table6[[#This Row],[Daşınmaz əmlak kreditləri (mln. manat)]]+Table6[[#This Row],[İstehlak Kreditləri (mln. manat)]]+Table6[[#This Row],[Biznes Kreditləri (mln. manat)]]-Table6[[#This Row],[Cəmi Kreditlər (mln. manat) ]] -> 0.0001

Sheet Aktivlər
A1: Sıra | B1: Banklar | C1: IIIR/2026 | D1: IIR/2026 | G1: Mündəricat
A2: 1 | B2: ABB ASC | C2: ='2026 IIIR- Ümumi göstəricilər'!C2 -> 16117.578 | D2: 15304.532
A3: 2 | B3: Kapital Bank ASC | C3: ='2026 IIIR- Ümumi göstəricilər'!C13 -> 13919.541 | D3: 13271.814
A4: 3 | B4: PAŞA Bank ASC | C4: ='2026 IIIR- Ümumi göstəricilər'!C14 -> 9987.063 | D4: 9522.354
A5: 4 | B5: Xalq Bank ASC | C5: ='2026 IIIR- Ümumi göstəricilər'!C19 -> 2827.8673 | D5: 2832.2735
A6: 5 | B6: Bank Respublika ASC | C6: ='2026 IIIR- Ümumi göstəricilər'!C10 -> 2658.6194 | D6: 2716.9248
A7: 6 | B7: Unibank KB ASC | C7: ='2026 IIIR- Ümumi göstəricilər'!C18 -> 2373.617 | D7: 2311.377
A8: 7 | B8: Azər Türk Bank ASC | C8: ='2026 IIIR- Ümumi göstəricilər'!C5 -> 2184.024 | D8: 2048.267
A9: 8 | B9: AccessBank QSC | C9: ='2026 IIIR- Ümumi göstəricilər'!C3 -> 1883.681 | D9: 1785.111
A10: 9 | B10: Ziraat Bank Azərbaycan ASC | C10: ='2026 IIIR- Ümumi göstəricilər'!C22 -> 1616.6273 | D10: 1559.974
A11: 10 | B11: Bank of Baku ASC | C11: ='2026 IIIR- Ümumi göstəricilər'!C9 -> 1566.3151 | D11: 1391.5616
A12: 11 | B12: Yelo Bank ASC | C12: ='2026 IIIR- Ümumi göstəricilər'!C21 -> 1558.6498 | D12: 1474.995
A13: 12 | B13: Rabitəbank ASC | C13: ='2026 IIIR- Ümumi göstəricilər'!C16 -> 1453.833 | D13: 1398.522
A14: 13 | B14: Yapı Kredi Bank Azərbaycan QSC | C14: ='2026 IIIR- Ümumi göstəricilər'!C20 -> 1008.9381 | D14: 870.73172
A15: 14 | B15: TuranBank ASC | C15: ='2026 IIIR- Ümumi göstəricilər'!C17 -> 909.718 | D15: 951.015
A16: 15 | B16: Azərbaycan Sənaye Bankı ASC | C16: ='2026 IIIR- Ümumi göstəricilər'!C6 -> 855.547 | D16: 874.52478
A17: 16 | B17: Expressbank ASC | C17: ='2026 IIIR- Ümumi göstəricilər'!C12 -> 725.447 | D17: 704.97
A18: 17 | B18: Premium Bank ASC | C18: ='2026 IIIR- Ümumi göstəricilər'!C15 -> 678.915 | D18: 668.222
A19: 18 | B19: AFB Bank ASC | C19: ='2026 IIIR- Ümumi göstəricilər'!C4 -> 574.42536 | D19: 536.9163
A20: 19 | B20: Bank VTB (Azərbaycan) ASC | C20: ='2026 IIIR- Ümumi göstəricilər'!C11 -> 367.78951 | D20: 336.85109
A21: 20 | B21: Bank Avrasiya ASC | C21: ='2026 IIIR- Ümumi göstəricilər'!C7 -> 239.15371 | D21: 218.52806
A22: 21 | B22: Bank Melli İran Bakı filialı | C22: ='2026 IIIR- Ümumi göstəricilər'!C8 -> 114.28087 | D22: 121.53199
C23: ='2026 IIR- Ümumi göstəricilər'!C23 -> 0 | E23: =Table41113141516181928[[#This Row],[IIIR/2026]]-Table41113141516181928[[#This Row],[IIR/2026]] -> 0 | H23: =I23/Table41113141516181928[[#This Row],[IIR/2026]] -> #DIV/0! | I23: =Table41113141516181928[[#This Row],[IIIR/2026]]-Table41113141516181928[[#This Row],[IIR/2026]] -> 0
C24: ='2026 IIR- Ümumi göstəricilər'!C24 -> 0 | E24: =Table41113141516181928[[#This Row],[IIIR/2026]]-Table41113141516181928[[#This Row],[IIR/2026]] -> 0 | H24: =I24/Table41113141516181928[[#This Row],[IIR/2026]] -> #DIV/0! | I24: =Table41113141516181928[[#This Row],[IIIR/2026]]-Table41113141516181928[[#This Row],[IIR/2026]] -> 0

Sheet Dinamika  - Aktivlər
A1: Sıra | B1: Banklar | C1: IIIR/2026 Nisbi dinamika/Rüblük | D1: IIIR/2026 Mütləq dinamika/Rüblük | F1: Mündəricat
A2: 1 | B2: ABB ASC | C2: 0.053124553 | D2: 813.04642
A3: 2 | B3: Kapital Bank ASC | C3: 0.048804707 | D3: 647.727
A4: 3 | B4: PAŞA Bank ASC | C4: 0.048801903 | D4: 464.709
A5: 4 | B5: Bank of Baku ASC | C5: 0.12558087 | D5: 174.75352
A6: 5 | B6: Yapı Kredi Bank Azərbaycan QSC | C6: 0.15872446 | D6: 138.20642
A7: 6 | B7: Azər Türk Bank ASC | C7: 0.066278957 | D7: 135.757
A8: 7 | B8: AccessBank QSC | C8: 0.055217855 | D8: 98.57
A9: 8 | B9: Yelo Bank ASC | C9: 0.056715318 | D9: 83.65481
A10: 9 | B10: Unibank KB ASC | C10: 0.026927682 | D10: 62.240024
A11: 10 | B11: Ziraat Bank Azərbaycan ASC | C11: 0.036316836 | D11: 56.65332
A12: 11 | B12: Rabitəbank ASC | C12: 0.03954961 | D12: 55.311
A13: 12 | B13: AFB Bank ASC | C13: 0.069860163 | D13: 37.50906
... A22: 21 | B22: Bank Respublika ASC | C22: -0.021460064 | D22: -58.305379

Sheet Kredit Portfeli
A1: Sıra | B1: Banklar | C1: IIIR/2026 | D1: IIR/2026 | F1: Mündəricat
A2: 1 | B2: ABB ASC | C2: 7854.1398 | D2: 7601.9687
A3: 2 | B3: Kapital Bank ASC | C3: 6391.31 | D3: 5953.948
A4: 3 | B4: PAŞA Bank ASC | C4: 4001.929 | D4: 3624.791
A5: 4 | B5: Xalq Bank ASC | C5: 1930.077 | D5: 1776.756
A6: 5 | B6: Bank Respublika ASC | C6: 1757.7561 | D6: 1701.6231
A7: 6 | B7: Unibank KB ASC | C7: 1528.236 | D7: 1464.5097
A8: 7 | B8: AccessBank QSC | C8: 1421.626 | D8: 1381.387
A9: 8 | B9: Yelo Bank ASC | C9: 1150.2909 | D9: 1107.2918
A10: 9 | B10: Bank of Baku ASC | C10: 1171.9883 | D10: 1060.7881
A11: 10 | B11: Rabitəbank ASC | C11: 1025.413 | D11: 995.084
A12: 11 | B12: Ziraat Bank Azərbaycan ASC | C12: 949.04 | D12: 831.7084
A13: 12 | B13: Azər Türk Bank ASC | C13: 944.912 | D13: 828.184
... A22: 21 | B22: Bank Melli İran Bakı filialı | C22: 3.54817 | D22: 3.18951

Sheet Dinamika - Kredit Portfeli
A1: Sıra | B1: Banklar | C1: IIIR/2026 Nisbi dinamika/Rüblük | D1: IIIR/2026 Mütləq dinamika/Rüblük | F1: Mündəricat
A2: 1 | B2: Kapital Bank ASC | C2: 0.073457477 | D2: 437.362
A3: 2 | B3: PAŞA Bank ASC | C3: 0.10404407 | D3: 377.138
A4: 3 | B4: ABB ASC | C4: 0.033171808 | D4: 252.17105
A5: 4 | B5: Xalq Bank ASC | C5: 0.086292659 | D5: 153.321
A6: 5 | B6: Ziraat Bank Azərbaycan ASC | C6: 0.141073 | D6: 117.3316
A7: 6 | B7: Azər Türk Bank ASC | C7: 0.14094452 | D7: 116.728
A8: 7 | B8: Bank of Baku ASC | C8: 0.10482785 | D8: 111.20014
A9: 8 | B9: Yapı Kredi Bank Azərbaycan QSC | C9: 0.13373238 | D9: 66.43036
A10: 9 | B10: Unibank KB ASC | C10: 0.043513737 | D10: 63.72629
A11: 10 | B11: Bank Respublika ASC | C11: 0.032987915 | D11: 56.132997
A12: 11 | B12: Yelo Bank ASC | C12: 0.038832692 | D12: 42.99912
A13: 12 | B13: AccessBank QSC | C13: 0.029129418 | D13: 40.239
... A22: 21 | B22: TuranBank ASC | C22: -0.042495129 | D22: -29.727

Sheet Biznes Kreditləri
A1: Sıra | B1: Banklar | C1: IIIR/2026 | D1: IIR/2026 | E1: Dinamika, % | G1: Mündəricat
A2: 1 | B2: ABB ASC | C2: 3801.7532 | D2: 3664.7321 | E2: =Table411131415161819278[[#This Row],[IIIR/2026]]/Table411131415161819278[[#This Row],[IIR/2026]]-1 -> 0.037389115 | J2: =K2/Table411131415161819278[[#This Row],[IIR/2026]] -> 0.037389115 | K2: =Table411131415161819278[[#This Row],[IIIR/2026]]-Table411131415161819278[[#This Row],[IIR/2026]] -> 137.02109
A3: 2 | B3: PAŞA Bank ASC | C3: 3682.538 | D3: 3309.885 | E3: =Table411131415161819278[[#This Row],[IIIR/2026]]/Table411131415161819278[[#This Row],[IIR/2026]]-1 -> 0.1125879 | J3: =K3/Table411131415161819278[[#This Row],[IIR/2026]] -> 0.1125879 | K3: =Table411131415161819278[[#This Row],[IIIR/2026]]-Table411131415161819278[[#This Row],[IIR/2026]] -> 372.653
A4: 3 | B4: Kapital Bank ASC | C4: 2266.953 | D4: 2044.634 | E4: =Table411131415161819278[[#This Row],[IIIR/2026]]/Table411131415161819278[[#This Row],[IIR/2026]]-1 -> 0.10873291 | J4: =K4/Table411131415161819278[[#This Row],[IIR/2026]] -> 0.10873291 | K4: =Table411131415161819278[[#This Row],[IIIR/2026]]-Table411131415161819278[[#This Row],[IIR/2026]] -> 222.319
A5: 4 | B5: Xalq Bank ASC | C5: 1212.174 | D5: 1010.575 | E5: =Table411131415161819278[[#This Row],[IIIR/2026]]/Table411131415161819278[[#This Row],[IIR/2026]]-1 -> 0.1994894 | J5: =K5/Table411131415161819278[[#This Row],[IIR/2026]] -> 0.1994894 | K5: =Table411131415161819278[[#This Row],[IIIR/2026]]-Table411131415161819278[[#This Row],[IIR/2026]] -> 201.599
A6: 5 | B6: Bank Respublika ASC | C6: 1176.8009 | D6: 1130.9333 | E6: =Table411131415161819278[[#This Row],[IIIR/2026]]/Table411131415161819278[[#This Row],[IIR/2026]]-1 -> 0.040557283
A7: 6 | B7: AccessBank QSC | C7: 1074.036 | D7: 1042.14 | E7: =Table411131415161819278[[#This Row],[IIIR/2026]]/Table411131415161819278[[#This Row],[IIR/2026]]-1 -> 0.030606253 | J7: =K7/Table411131415161819278[[#This Row],[IIR/2026]] -> 0.030606253 | K7: =Table411131415161819278[[#This Row],[IIIR/2026]]-Table411131415161819278[[#This Row],[IIR/2026]] -> 31.896
A8: 7 | B8: Ziraat Bank Azərbaycan ASC | C8: 851.245 | D8: 734.9285 | E8: =Table411131415161819278[[#This Row],[IIIR/2026]]/Table411131415161819278[[#This Row],[IIR/2026]]-1 -> 0.15826914
A9: 8 | B9: Unibank KB ASC | C9: 732.792 | D9: 693.72798 | E9: =Table411131415161819278[[#This Row],[IIIR/2026]]/Table411131415161819278[[#This Row],[IIR/2026]]-1 -> 0.056310288 | J9: =K9/Table411131415161819278[[#This Row],[IIR/2026]] -> 0.056310288 | K9: =Table411131415161819278[[#This Row],[IIIR/2026]]-Table411131415161819278[[#This Row],[IIR/2026]] -> 39.064022
A10: 9 | B10: Yelo Bank ASC | C10: 720.45056 | D10: 687.17849 | E10: =Table411131415161819278[[#This Row],[IIIR/2026]]/Table411131415161819278[[#This Row],[IIR/2026]]-1 -> 0.048418381 | J10: =K10/Table411131415161819278[[#This Row],[IIR/2026]] -> 0.048418381 | K10: =Table411131415161819278[[#This Row],[IIIR/2026]]-Table411131415161819278[[#This Row],[IIR/2026]] -> 33.27207
A11: 10 | B11: Rabitəbank ASC | C11: 460.097 | D11: 436.228 | E11: =Table411131415161819278[[#This Row],[IIIR/2026]]/Table411131415161819278[[#This Row],[IIR/2026]]-1 -> 0.054716799 | J11: =K11/Table411131415161819278[[#This Row],[IIR/2026]] -> 0.054716799 | K11: =Table411131415161819278[[#This Row],[IIIR/2026]]-Table411131415161819278[[#This Row],[IIR/2026]] -> 23.869
A12: 11 | B12: Yapı Kredi Bank Azərbaycan QSC | C12: 391.27823 | D12: 334.94517 | E12: =Table411131415161819278[[#This Row],[IIIR/2026]]/Table411131415161819278[[#This Row],[IIR/2026]]-1 -> 0.16818592 | J12: =K12/Table411131415161819278[[#This Row],[IIR/2026]] -> 0.16818592 | K12: =Table411131415161819278[[#This Row],[IIIR/2026]]-Table411131415161819278[[#This Row],[IIR/2026]] -> 56.33306
A13: 12 | B13: Premium Bank ASC | C13: 362.22 | D13: 357.733 | E13: =Table411131415161819278[[#This Row],[IIIR/2026]]/Table411131415161819278[[#This Row],[IIR/2026]]-1 -> 0.012542874 | J13: =K13/Table411131415161819278[[#This Row],[IIR/2026]] -> 0.012542874 | K13: =Table411131415161819278[[#This Row],[IIIR/2026]]-Table411131415161819278[[#This Row],[IIR/2026]] -> 4.487
A14: 13 | B14: Azərbaycan Sənaye Bankı ASC | C14: 358.837 | D14: 372.096 | E14: =Table411131415161819278[[#This Row],[IIIR/2026]]/Table411131415161819278[[#This Row],[IIR/2026]]-1 -> -0.035633277 | J14: =K14/Table411131415161819278[[#This Row],[IIR/2026]] -> -0.035633277 | K14: =Table411131415161819278[[#This Row],[IIIR/2026]]-Table411131415161819278[[#This Row],[IIR/2026]] -> -13.259
A15: 14 | B15: TuranBank ASC | C15: 318.161 | D15: 342.74 | E15: =Table411131415161819278[[#This Row],[IIIR/2026]]/Table411131415161819278[[#This Row],[IIR/2026]]-1 -> -0.071713252 | J15: =K15/Table411131415161819278[[#This Row],[IIR/2026]] -> -0.071713252 | K15: =Table411131415161819278[[#This Row],[IIIR/2026]]-Table411131415161819278[[#This Row],[IIR/2026]] -> -24.579
A16: 15 | B16: Azər Türk Bank ASC | C16: 303.244 | D16: 263.186 | E16: =Table411131415161819278[[#This Row],[IIIR/2026]]/Table411131415161819278[[#This Row],[IIR/2026]]-1 -> 0.15220414 | J16: =K16/Table411131415161819278[[#This Row],[IIR/2026]] -> 0.15220414 | K16: =Table411131415161819278[[#This Row],[IIIR/2026]]-Table411131415161819278[[#This Row],[IIR/2026]] -> 40.058
A17: 16 | B17: AFB Bank ASC | C17: 238.18831 | D17: 236.88038 | E17: =Table411131415161819278[[#This Row],[IIIR/2026]]/Table411131415161819278[[#This Row],[IIR/2026]]-1 -> 0.0055214788 | J17: =K17/Table411131415161819278[[#This Row],[IIR/2026]] -> 0.0055214788 | K17: =Table411131415161819278[[#This Row],[IIIR/2026]]-Table411131415161819278[[#This Row],[IIR/2026]] -> 1.30793
A18: 17 | B18: Expressbank ASC | C18: 222.954 | D18: 209.381 | E18: =Table411131415161819278[[#This Row],[IIIR/2026]]/Table411131415161819278[[#This Row],[IIR/2026]]-1 -> 0.064824411 | J18: =K18/Table411131415161819278[[#This Row],[IIR/2026]] -> 0.064824411 | K18: =Table411131415161819278[[#This Row],[IIIR/2026]]-Table411131415161819278[[#This Row],[IIR/2026]] -> 13.573
A19: 18 | B19: Bank of Baku ASC | C19: 188.69879 | D19: 172.74861 | E19: =Table411131415161819278[[#This Row],[IIIR/2026]]/Table411131415161819278[[#This Row],[IIR/2026]]-1 -> 0.092331741 | J19: =K19/Table411131415161819278[[#This Row],[IIR/2026]] -> 0.092331741 | K19: =Table411131415161819278[[#This Row],[IIIR/2026]]-Table411131415161819278[[#This Row],[IIR/2026]] -> 15.95018
A20: 19 | B20: Bank VTB (Azərbaycan) ASC | C20: 68.70736 | D20: 70.95746 | E20: =Table411131415161819278[[#This Row],[IIIR/2026]]/Table411131415161819278[[#This Row],[IIR/2026]]-1 -> -0.031710549 | J20: =K20/Table411131415161819278[[#This Row],[IIR/2026]] -> -0.031710549 | K20: =Table411131415161819278[[#This Row],[IIIR/2026]]-Table411131415161819278[[#This Row],[IIR/2026]] -> -2.2501
... A22: 21 | B22: Bank Melli İran Bakı filialı | C22: 2.49308 | D22: 1.98436 | E22: =Table411131415161819278[[#This Row],[IIIR/2026]]/Table411131415161819278[[#This Row],[IIR/2026]]-1 -> 0.25636477 | J22: =K22/Table411131415161819278[[#This Row],[IIR/2026]] -> 0.25636477 | K22: =Table411131415161819278[[#This Row],[IIIR/2026]]-Table411131415161819278[[#This Row],[IIR/2026]] -> 0.50872

Sheet Dinamika - Biznes Kreditləri
A1: Sıra | B1: Banklar | C1: IIR/2023 Nisbi dinamika/Rüblük | D1: IIR/2023 Mütləq dinamika/Rüblük | F1: Mündəricat
A2: 25 | B2: ABB ASC | C2: 0.25910755 | D2: 407.72005
A3: 2 | B3: Kapital Bank ASC | C3: 0.1898384 | D3: 179.952
A4: 7 | B4: Bank Respublika ASC | C4: 0.057548784 | D4: 38.731137
A5: 1 | B5: AccessBank QSC | C5: 0.054563987 | D5: 36.777
A6: 5 | B6: Yelo Bank ASC | C6: 0.064688461 | D6: 26.95862
A7: 4 | B7: PAŞA Bank ASC | C7: 0.010542073 | D7: 24.972
A8: 18 | B8: Naxçıvanbank ASC | C8: 0.28477667 | D8: 24.45662
A9: 10 | B9: Rabitəbank ASC | C9: 0.068646638 | D9: 21.431
A10: 6 | B10: Unibank KB ASC | C10: 0.073035188 | D10: 21.165378
A11: 9 | B11: Ziraat Bank Azərbaycan ASC | C11: 0.060480726 | D11: 19.107676
A12: 17 | B12: Expressbank ASC | C12: 0.1390406 | D12: 12.840399
A13: 11 | B13: TuranBank ASC | C13: 0.035284731 | D13: 11.277
... A23: 23 | B23: Xalq Bank ASC | C23: -0.0065962707 | D23: -8.0910912
A24: 19 | B24: Azərbaycan Sənaye Bankı ASC
A25: 15 | B25: Bank Melli İran Bakı filialı

Sheet İstehlak Kreditləri
A1: Sıra | B1: Banklar | C1: IIIR/2026 | D1: IIR/2026 | E1: Dinamika, % | G1: Mündəricat
A2: 1 | B2: Kapital Bank ASC | C2: 3536.895 | D2: 3323.215 | E2: =Table4111314151618192786[[#This Row],[IIIR/2026]]/Table4111314151618192786[[#This Row],[IIR/2026]]-1 -> 0.06429918
A3: 2 | B3: ABB ASC | C3: 2244.0604 | D3: 2159.6946 | E3: =Table4111314151618192786[[#This Row],[IIIR/2026]]/Table4111314151618192786[[#This Row],[IIR/2026]]-1 -> 0.039063769
A4: 3 | B4: Bank of Baku ASC | C4: 911.0405 | D4: 819.79918 | E4: =Table4111314151618192786[[#This Row],[IIIR/2026]]/Table4111314151618192786[[#This Row],[IIR/2026]]-1 -> 0.11129716
A5: 4 | B5: Unibank KB ASC | C5: 676.593 | D5: 659.81206 | E5: =Table4111314151618192786[[#This Row],[IIIR/2026]]/Table4111314151618192786[[#This Row],[IIR/2026]]-1 -> 0.025432912
A6: 5 | B6: Azər Türk Bank ASC | C6: 424.071 | D6: 351.285 | E6: =Table4111314151618192786[[#This Row],[IIIR/2026]]/Table4111314151618192786[[#This Row],[IIR/2026]]-1 -> 0.20719928
A7: 6 | B7: Bank Respublika ASC | C7: 398.45367 | D7: 395.2283 | E7: =Table4111314151618192786[[#This Row],[IIIR/2026]]/Table4111314151618192786[[#This Row],[IIR/2026]]-1 -> 0.0081607774
A8: 7 | B8: Rabitəbank ASC | C8: 360.55 | D8: 360.709 | E8: =Table4111314151618192786[[#This Row],[IIIR/2026]]/Table4111314151618192786[[#This Row],[IIR/2026]]-1 -> -0.00044079854
A9: 8 | B9: Yelo Bank ASC | C9: 319.09724 | D9: 313.99497 | E9: =Table4111314151618192786[[#This Row],[IIIR/2026]]/Table4111314151618192786[[#This Row],[IIR/2026]]-1 -> 0.016249528
A10: 9 | B10: AccessBank QSC | C10: 315.208 | D10: 311.447 | E10: =Table4111314151618192786[[#This Row],[IIIR/2026]]/Table4111314151618192786[[#This Row],[IIR/2026]]-1 -> 0.012075891
A11: 10 | B11: Xalq Bank ASC | C11: 284.972 | D11: 241.058 | E11: =Table4111314151618192786[[#This Row],[IIIR/2026]]/Table4111314151618192786[[#This Row],[IIR/2026]]-1 -> 0.18217193
A12: 11 | B12: Expressbank ASC | C12: 239.039 | D12: 231.746 | E12: =Table4111314151618192786[[#This Row],[IIIR/2026]]/Table4111314151618192786[[#This Row],[IIR/2026]]-1 -> 0.031469799
A13: 12 | B13: TuranBank ASC | C13: 211.969 | D13: 221.502 | E13: =Table4111314151618192786[[#This Row],[IIIR/2026]]/Table4111314151618192786[[#This Row],[IIR/2026]]-1 -> -0.043037986
... A22: 21 | B22: Bank Melli İran Bakı filialı | C22: 0.96028 | D22: 1.106 | E22: =Table4111314151618192786[[#This Row],[IIIR/2026]]/Table4111314151618192786[[#This Row],[IIR/2026]]-1 -> -0.13175407

Sheet Daşınmaz Əmlak Kreditləri
A1: Sıra | B1: Banklar | C1: IIIR/2026 | D1: IIR/2026 | E1: Dinamika, % | G1: Mündəricat
A2: 1 | B2: ABB ASC | C2: 1808.3263 | D2: 1777.5421 | E2: =Table411131415161819278612[[#This Row],[IIIR/2026]]/Table411131415161819278612[[#This Row],[IIR/2026]]-1 -> 0.01731838
A3: 2 | B3: Kapital Bank ASC | C3: 587.461 | D3: 586.099 | E3: =Table411131415161819278612[[#This Row],[IIIR/2026]]/Table411131415161819278612[[#This Row],[IIR/2026]]-1 -> 0.0023238395
A4: 3 | B4: Xalq Bank ASC | C4: 432.931 | D4: 525.122 | E4: =Table411131415161819278612[[#This Row],[IIIR/2026]]/Table411131415161819278612[[#This Row],[IIR/2026]]-1 -> -0.17556111
A5: 4 | B5: PAŞA Bank ASC | C5: 261.321 | D5: 254.548 | E5: =Table411131415161819278612[[#This Row],[IIIR/2026]]/Table411131415161819278612[[#This Row],[IIR/2026]]-1 -> 0.026607948
A6: 5 | B6: Azər Türk Bank ASC | C6: 217.597 | D6: 213.713 | E6: =Table411131415161819278612[[#This Row],[IIIR/2026]]/Table411131415161819278612[[#This Row],[IIR/2026]]-1 -> 0.018173906
A7: 6 | B7: Rabitəbank ASC | C7: 204.767 | D7: 198.147 | E7: =Table411131415161819278612[[#This Row],[IIIR/2026]]/Table411131415161819278612[[#This Row],[IIR/2026]]-1 -> 0.033409539
A8: 7 | B8: Bank Respublika ASC | C8: 182.5015 | D8: 175.46145 | E8: =Table411131415161819278612[[#This Row],[IIIR/2026]]/Table411131415161819278612[[#This Row],[IIR/2026]]-1 -> 0.040123017
A9: 8 | B9: TuranBank ASC | C9: 139.681 | D9: 135.297 | E9: =Table411131415161819278612[[#This Row],[IIIR/2026]]/Table411131415161819278612[[#This Row],[IIR/2026]]-1 -> 0.032402788
A10: 9 | B10: Expressbank ASC | C10: 130.372 | D10: 126.688 | E10: =Table411131415161819278612[[#This Row],[IIIR/2026]]/Table411131415161819278612[[#This Row],[IIR/2026]]-1 -> 0.029079313
A11: 10 | B11: Unibank KB ASC | C11: 118.85 | D11: 110.96967 | E11: =Table411131415161819278612[[#This Row],[IIIR/2026]]/Table411131415161819278612[[#This Row],[IIR/2026]]-1 -> 0.071013327
A12: 11 | B12: Yelo Bank ASC | C12: 110.74309 | D12: 106.11831 | E12: =Table411131415161819278612[[#This Row],[IIIR/2026]]/Table411131415161819278612[[#This Row],[IIR/2026]]-1 -> 0.043581357
A13: 12 | B13: Premium Bank ASC | C13: 72.761 | D13: 73.149 | E13: =Table411131415161819278612[[#This Row],[IIIR/2026]]/Table411131415161819278612[[#This Row],[IIR/2026]]-1 -> -0.005304242
... A22: 21 | B22: Bank Melli İran Bakı filialı | C22: 0.09481 | D22: 0.09915 | E22: =Table411131415161819278612[[#This Row],[IIIR/2026]]/Table411131415161819278612[[#This Row],[IIR/2026]]-1 -> -0.043772063

Sheet Depozit Portfeli
A1: Sıra | B1: Banklar | C1: IIIR/2026 | D1: IIR/2026 | F1: Mündəricat
A2: 1 | B2: ABB ASC | C2: 10704.492 | D2: 9257.0943
A3: 2 | B3: Kapital Bank ASC | C3: 10305.862 | D3: 9951.241
A4: 3 | B4: PAŞA Bank ASC | C4: 7487.038 | D4: 7216.161
A5: 4 | B5: Azər Türk Bank ASC | C5: 1668.241 | D5: 1489.575
A6: 5 | B6: Xalq Bank ASC | C6: 1598.4549 | D6: 1700.7805
A7: 6 | B7: Unibank KB ASC | C7: 1441.524 | D7: 1379.0751
A8: 7 | B8: Bank Respublika ASC | C8: 1096.564 | D8: 1099.7206
A9: 8 | B9: AccessBank QSC | C9: 1092.011 | D9: 1084.628
A10: 9 | B10: Yelo Bank ASC | C10: 1091.2689 | D10: 1039.1614
A11: 10 | B11: Bank of Baku ASC | C11: 1059.0903 | D11: 948.88944
A12: 11 | B12: Ziraat Bank Azərbaycan ASC | C12: 874.1 | D12: 866.63196
A13: 12 | B13: Rabitəbank ASC | C13: 848.074 | D13: 840.727
... A22: 21 | B22: Bank Melli İran Bakı filialı | C22: 35.64614 | D22: 36.308689

Sheet Dinamika - Depozit Portfeli
A1: Sıra | B1: Banklar | C1: IIIR/2026 Nisbi dinamika/Rüblük | D1: IIIR/2026 Mütləq dinamika/Rüblük | F1: Mündəricat
A2: 1 | B2: ABB ASC | C2: 0.15635549 | D2: 1447.3975
A3: 2 | B3: Kapital Bank ASC | C3: 0.035635857 | D3: 354.621
A4: 3 | B4: PAŞA Bank ASC | C4: 0.037537549 | D4: 270.877
A5: 4 | B5: Azər Türk Bank ASC | C5: 0.11994428 | D5: 178.666
A6: 5 | B6: Bank of Baku ASC | C6: 0.1161367 | D6: 110.20089
A7: 6 | B7: Unibank KB ASC | C7: 0.045283159 | D7: 62.448878
A8: 7 | B8: Yapı Kredi Bank Azərbaycan QSC | C8: 0.10059113 | D8: 57.63549
A9: 8 | B9: Yelo Bank ASC | C9: 0.050143759 | D9: 52.10746
A10: 9 | B10: Bank VTB (Azərbaycan) ASC | C10: 0.25985566 | D10: 31.6447
A11: 10 | B11: AFB Bank ASC | C11: 0.080769393 | D11: 27.64647
A12: 11 | B12: Expressbank ASC | C12: 0.057208673 | D12: 20.141
A13: 12 | B13: Bank Avrasiya ASC | C13: 0.19159045 | D13: 14.42623
... A22: 21 | B22: Xalq Bank ASC | C22: -0.06016393 | D22: -102.32564

Sheet Fiziki şəxslərin əmanətləri
A1: Sıra | B1: Banklar | C1: IIIR/2026 | D1: IIR/2026 | E1: Dinamika, % | G1: Mündəricat
A2: 1 | B2: ABB ASC | C2: 4145.0812 | D2: 3893.8041 | E2: =Table411131415161819278616[[#This Row],[IIIR/2026]]/Table411131415161819278616[[#This Row],[IIR/2026]]-1 -> 0.064532529
A3: 2 | B3: Kapital Bank ASC | C3: 4095.139 | D3: 3708.218 | E3: =Table411131415161819278616[[#This Row],[IIIR/2026]]/Table411131415161819278616[[#This Row],[IIR/2026]]-1 -> 0.10434149
A4: 3 | B4: PAŞA Bank ASC | C4: 1977.932 | D4: 1854.05 | E4: =Table411131415161819278616[[#This Row],[IIIR/2026]]/Table411131415161819278616[[#This Row],[IIR/2026]]-1 -> 0.066816968
A5: 4 | B5: Unibank KB ASC | C5: 1112.283 | D5: 1112.818 | E5: =Table411131415161819278616[[#This Row],[IIIR/2026]]/Table411131415161819278616[[#This Row],[IIR/2026]]-1 -> -0.0004807447
A6: 5 | B6: Yelo Bank ASC | C6: 945.74678 | D6: 899.76318 | E6: =Table411131415161819278616[[#This Row],[IIIR/2026]]/Table411131415161819278616[[#This Row],[IIR/2026]]-1 -> 0.051106337
A7: 6 | B7: Bank of Baku ASC | C7: 913.94238 | D7: 828.63627 | E7: =Table411131415161819278616[[#This Row],[IIIR/2026]]/Table411131415161819278616[[#This Row],[IIR/2026]]-1 -> 0.10294759
A8: 7 | B8: AccessBank QSC | C8: 897.715 | D8: 894.013 | E8: =Table411131415161819278616[[#This Row],[IIIR/2026]]/Table411131415161819278616[[#This Row],[IIR/2026]]-1 -> 0.0041408794
A9: 8 | B9: Xalq Bank ASC | C9: 698.49 | D9: 738.02375 | E9: =Table411131415161819278616[[#This Row],[IIIR/2026]]/Table411131415161819278616[[#This Row],[IIR/2026]]-1 -> -0.053567043
A10: 9 | B10: Rabitəbank ASC | C10: 620.195 | D10: 619.497 | E10: =Table411131415161819278616[[#This Row],[IIIR/2026]]/Table411131415161819278616[[#This Row],[IIR/2026]]-1 -> 0.0011267205
A11: 10 | B11: Bank Respublika ASC | C11: 604.73849 | D11: 602.32766 | E11: =Table411131415161819278616[[#This Row],[IIIR/2026]]/Table411131415161819278616[[#This Row],[IIR/2026]]-1 -> 0.004002521
A12: 11 | B12: TuranBank ASC | C12: 384.781 | D12: 402.437 | E12: =Table411131415161819278616[[#This Row],[IIIR/2026]]/Table411131415161819278616[[#This Row],[IIR/2026]]-1 -> -0.043872706
A13: 12 | B13: Azər Türk Bank ASC | C13: 344.757 | D13: 220.48 | E13: =Table411131415161819278616[[#This Row],[IIIR/2026]]/Table411131415161819278616[[#This Row],[IIR/2026]]-1 -> 0.56366564
... A21: 20 | B21: Bank Avrasiya ASC | C21: 80.37182 | D21: 69.99506 | E21: =Table411131415161819278616[[#This Row],[IIIR/2026]]/Table411131415161819278616[[#This Row],[IIR/2026]]-1 -> 0.14824989
A22: 21 | B22: Bank Melli İran Bakı filialı

Sheet Balans Kapitalı
A1: Sıra | B1: Banklar | C1: IIIR/2026 | D1: IIR/2026 | F1: Mündəricat
A2: 1 | B2: ABB ASC | C2: 2322.667 | D2: 2231.782
A3: 2 | B3: Kapital Bank ASC | C3: 1344.444 | D3: 1339.016
A4: 3 | B4: PAŞA Bank ASC | C4: 984.715 | D4: 921.646
A5: 4 | B5: Xalq Bank ASC | C5: 536.08 | D5: 523.57962
A6: 5 | B6: Bank Respublika ASC | C6: 285.82247 | D6: 269.53818
A7: 6 | B7: AccessBank QSC | C7: 238.724 | D7: 261.371
A8: 7 | B8: Unibank KB ASC | C8: 224.156 | D8: 214.3546
A9: 8 | B9: Premium Bank ASC | C9: 198.126 | D9: 194.14
A10: 9 | B10: Yelo Bank ASC | C10: 194.66186 | D10: 189.62622
A11: 10 | B11: Bank of Baku ASC | C11: 193.58736 | D11: 181.28996
A12: 11 | B12: Ziraat Bank Azərbaycan ASC | C12: 183.25 | D12: 173.89456
A13: 12 | B13: Rabitəbank ASC | C13: 141.504 | D13: 137.708
... A22: 21 | B22: Bank Melli İran Bakı filialı | C22: 56.496799 | D22: 55.676908

Sheet Dinamika  - Balans Kapitalı
A1: Sıra | B1: Banklar | C1: IIIR/2026 Nisbi dinamika/Rüblük | D1: IIIR/2026 Mütləq dinamika/Rüblük | F1: Mündəricat
A2: 1 | B2: ABB ASC | C2: 0.040723067 | D2: 90.88501
A3: 2 | B3: PAŞA Bank ASC | C3: 0.068430829 | D3: 63.069
A4: 3 | B4: Bank Respublika ASC | C4: 0.060415509 | D4: 16.284287
A5: 4 | B5: Xalq Bank ASC | C5: 0.023874841 | D5: 12.50038
A6: 5 | B6: Bank of Baku ASC | C6: 0.067832769 | D6: 12.2974
A7: 6 | B7: Unibank KB ASC | C7: 0.045725187 | D7: 9.8014041
A8: 7 | B8: Ziraat Bank Azərbaycan ASC | C8: 0.053799498 | D8: 9.35544
A9: 8 | B9: Azər Türk Bank ASC | C9: 0.051863731 | D9: 6.662
A10: 9 | B10: Yapı Kredi Bank Azərbaycan QSC | C10: 0.049794837 | D10: 6.47183
A11: 10 | B11: Kapital Bank ASC | C11: 0.004053723 | D11: 5.428
A12: 11 | B12: Yelo Bank ASC | C12: 0.02655561 | D12: 5.03564
A13: 12 | B13: Premium Bank ASC | C13: 0.020531575 | D13: 3.986
... A22: 21 | B22: AccessBank QSC | C22: -0.08664695 | D22: -22.647

Sheet Nizamnamə Kapitalı
A1: Sıra | B1: Banklar | C1: 2026 IIR Nizamnamə Kapitalı (mln. manat) | D1: 2026 IIIR Nizamnamə Kapitalı (mln. manat) | E1: Dinamika, mln . manat | G1: Mündəricat
A2: 1 | B2: ABB ASC | C2: 1281.2714 | D2: 1281.2714 | E2: =Table8[[#This Row],[2026 IIIR Nizamnamə Kapitalı (mln. manat)]]-Table8[[#This Row],[2026 IIR Nizamnamə Kapitalı (mln. manat)]] -> 0
A3: 2 | B3: Xalq Bank ASC | C3: 446.59951 | D3: 477.09403 | E3: =Table8[[#This Row],[2026 IIIR Nizamnamə Kapitalı (mln. manat)]]-Table8[[#This Row],[2026 IIR Nizamnamə Kapitalı (mln. manat)]] -> 30.49452
A4: 3 | B4: Yelo Bank ASC | C4: 378 | D4: 378 | E4: =Table8[[#This Row],[2026 IIIR Nizamnamə Kapitalı (mln. manat)]]-Table8[[#This Row],[2026 IIR Nizamnamə Kapitalı (mln. manat)]] -> 0
A5: 4 | B5: PAŞA Bank ASC | C5: 373.17 | D5: 373.17 | E5: =Table8[[#This Row],[2026 IIIR Nizamnamə Kapitalı (mln. manat)]]-Table8[[#This Row],[2026 IIR Nizamnamə Kapitalı (mln. manat)]] -> 0
A6: 5 | B6: Bank VTB (Azərbaycan) ASC | C6: 315.815 | D6: 315.815 | E6: =Table8[[#This Row],[2026 IIIR Nizamnamə Kapitalı (mln. manat)]]-Table8[[#This Row],[2026 IIR Nizamnamə Kapitalı (mln. manat)]] -> 0
A7: 6 | B7: Kapital Bank ASC | C7: 265.85 | D7: 265.85 | E7: =Table8[[#This Row],[2026 IIIR Nizamnamə Kapitalı (mln. manat)]]-Table8[[#This Row],[2026 IIR Nizamnamə Kapitalı (mln. manat)]] -> 0
A8: 7 | B8: Bank Respublika ASC | C8: 73.96109 | D8: 240.29807 | E8: =Table8[[#This Row],[2026 IIIR Nizamnamə Kapitalı (mln. manat)]]-Table8[[#This Row],[2026 IIR Nizamnamə Kapitalı (mln. manat)]] -> 166.33698
A9: 8 | B9: Premium Bank ASC | C9: 174.601 | D9: 174.601 | E9: =Table8[[#This Row],[2026 IIIR Nizamnamə Kapitalı (mln. manat)]]-Table8[[#This Row],[2026 IIR Nizamnamə Kapitalı (mln. manat)]] -> 0
A10: 9 | B10: Unibank KB ASC | C10: 138.20039 | D10: 138.2 | E10: =Table8[[#This Row],[2026 IIIR Nizamnamə Kapitalı (mln. manat)]]-Table8[[#This Row],[2026 IIR Nizamnamə Kapitalı (mln. manat)]] -> -0.00039296
A11: 10 | B11: AccessBank QSC | C11: 121.75 | D11: 121.75 | E11: =Table8[[#This Row],[2026 IIIR Nizamnamə Kapitalı (mln. manat)]]-Table8[[#This Row],[2026 IIR Nizamnamə Kapitalı (mln. manat)]] -> 0
A12: 11 | B12: Expressbank ASC | C12: 112.545 | D12: 112.545 | E12: =Table8[[#This Row],[2026 IIIR Nizamnamə Kapitalı (mln. manat)]]-Table8[[#This Row],[2026 IIR Nizamnamə Kapitalı (mln. manat)]] -> 0
A13: 12 | B13: Rabitəbank ASC | C13: 101.3 | D13: 101.3 | E13: =Table8[[#This Row],[2026 IIIR Nizamnamə Kapitalı (mln. manat)]]-Table8[[#This Row],[2026 IIR Nizamnamə Kapitalı (mln. manat)]] -> 0
... A22: 21 | B22: Bank of Baku ASC | C22: 52.87 | D22: 52.87 | E22: =Table8[[#This Row],[2026 IIIR Nizamnamə Kapitalı (mln. manat)]]-Table8[[#This Row],[2026 IIR Nizamnamə Kapitalı (mln. manat)]] -> 0

Sheet Xalis Mənfəəti
A1: Sıra | B1: Banklar | C1: IIIR/2026 | D1: IIR/2026 | F1: Mündəricat
A2: 1 | B2: ABB ASC | C2: 352.37731 | D2: 250.55595
A3: 2 | B3: Kapital Bank ASC | C3: 297.004 | D3: 221.79
A4: 3 | B4: PAŞA Bank ASC | C4: 133.802 | D4: 67.747
A5: 4 | B5: Bank Respublika ASC | C5: 50.28543 | D5: 34.5136
A6: 5 | B6: AccessBank QSC | C6: 45.246 | D6: 28.097
A7: 6 | B7: Bank of Baku ASC | C7: 27.04536 | D7: 16.0757
A8: 7 | B8: Unibank KB ASC | C8: 26.61 | D8: 17.200075
A9: 8 | B9: Xalq Bank ASC | C9: 24.07342 | D9: 13.48929
A10: 9 | B10: Ziraat Bank Azərbaycan ASC | C10: 20.9576 | D10: 11.5908
A11: 10 | B11: Yelo Bank ASC | C11: 17.25682 | D11: 12.60396
A12: 11 | B12: Azər Türk Bank ASC | C12: 15.166 | D12: 10.276
A13: 12 | B13: Rabitəbank ASC | C13: 13.757 | D13: 5.604
... A22: 21 | B22: TuranBank ASC | C22: 2.172 | D22: 5.014

Sheet Xalis Əməliyyat Mənfəəti
A1: Sıra | B1: Banklar | C1: IIIR/2026 | D1: IIR/2026 | F1: Mündəricat
A2: 1 | B2: ABB ASC | C2: 542.57322 | D2: 366.86101
A3: 2 | B3: Kapital Bank ASC | C3: 533.204 | D3: 336.762
A4: 3 | B4: PAŞA Bank ASC | C4: 194.281 | D4: 124.94772
A5: 4 | B5: Bank Respublika ASC | C5: 67.169048 | D5: 46.094207
A6: 5 | B6: AccessBank QSC | C6: 63.575 | D6: 41.321
A7: 6 | B7: Unibank KB ASC | C7: 58.703 | D7: 32.418402
A8: 7 | B8: Ziraat Bank Azərbaycan ASC | C8: 36.7202 | D8: 25.4007
A9: 8 | B9: Bank of Baku ASC | C9: 36.32641 | D9: 23.3984
A10: 9 | B10: Xalq Bank ASC | C10: 33.25469 | D10: 21.33306
A11: 10 | B11: Yelo Bank ASC | C11: 32.58085 | D11: 22.32818
A12: 11 | B12: Rabitəbank ASC | C12: 24.975 | D12: 14.225
A13: 12 | B13: Azər Türk Bank ASC | C13: 24.32 | D13: 15.343
... A22: 21 | B22: Bank Melli İran Bakı filialı | C22: 2.4430305 | D22: 1.6632536

Sheet Faiz Gəlirləri
A1: Sıra | B1: Banklar | C1: IIIR/2026 | D1: IIR/2026 | F1: Mündəricat | I1: =
A2: 1 | B2: Kapital Bank ASC | C2: 986.294 | D2: 630.736
A3: 2 | B3: ABB ASC | C3: 937.19516 | D3: 613.2319
A4: 3 | B4: PAŞA Bank ASC | C4: 441.585 | D4: 287.68072
A5: 4 | B5: Bank Respublika ASC | C5: 240.40366 | D5: 159.20157
A6: 5 | B6: Unibank KB ASC | C6: 222.885 | D6: 143.28462
A7: 6 | B7: AccessBank QSC | C7: 216.07 | D7: 141.29
A8: 7 | B8: Bank of Baku ASC | C8: 164.09271 | D8: 105.3323
A9: 8 | B9: Yelo Bank ASC | C9: 153.5205 | D9: 101.66471
A10: 9 | B10: Xalq Bank ASC | C10: 152.87386 | D10: 102.91939
A11: 10 | B11: Rabitəbank ASC | C11: 118.537 | D11: 77.616
A12: 11 | B12: Azər Türk Bank ASC | C12: 105.69 | D12: 69.812
A13: 12 | B13: TuranBank ASC | C13: 84.622 | D13: 56.568
... A22: 21 | B22: Bank Melli İran Bakı filialı | C22: 3.9347846 | D22: 2.6811155

Sheet Faiz Xərcləri
A1: Sıra | B1: Banklar | C1: IIIR/2026 | D1: IIR/2026 | F1: Mündəricat
A2: 1 | B2: ABB ASC | C2: 336.22622 | D2: 219.72132
A3: 2 | B3: Kapital Bank ASC | C3: 260.318 | D3: 164.689
A4: 3 | B4: PAŞA Bank ASC | C4: 173.176 | D4: 110.024
A5: 4 | B5: Bank Respublika ASC | C5: 95.451137 | D5: 63.417406
A6: 5 | B6: Unibank KB ASC | C6: 94.211 | D6: 61.149222
A7: 6 | B7: AccessBank QSC | C7: 85.705 | D7: 56.352
A8: 7 | B8: Bank of Baku ASC | C8: 73.42683 | D8: 46.2766
A9: 8 | B9: Yelo Bank ASC | C9: 61.29681 | D9: 40.62446
A10: 9 | B10: Xalq Bank ASC | C10: 58.48147 | D10: 39.77866
A11: 10 | B11: Azər Türk Bank ASC | C11: 57.134 | D11: 37.857
A12: 11 | B12: Rabitəbank ASC | C12: 54.166 | D12: 36.03
A13: 12 | B13: TuranBank ASC | C13: 49.936 | D13: 32.712
... A22: 21 | B22: Bank Melli İran Bakı filialı | C22: 0 | D22: 0

Sheet Qeyri-Faiz Gəlirləri
A1: Sıra | B1: Banklar | C1: IIIR/2026 | D1: IIR/2026 | F1: Mündəricat
A2: 1 | B2: Kapital Bank ASC | C2: 523.825 | D2: 341.39
A3: 2 | B3: ABB ASC | C3: 425.37426 | D3: 290.14379
A4: 3 | B4: PAŞA Bank ASC | C4: 176.158 | D4: 114.14
A5: 4 | B5: Unibank KB ASC | C5: 109.879 | D5: 71.343
A6: 5 | B6: Azər Türk Bank ASC | C6: 37.175 | D6: 22.658
A7: 6 | B7: Bank Respublika ASC | C7: 36.52348 | D7: 21.279705
A8: 7 | B8: Rabitəbank ASC | C8: 35.614 | D8: 22.778
A9: 8 | B9: Xalq Bank ASC | C9: 31.49235 | D9: 18.14134
A10: 9 | B10: Yapı Kredi Bank Azərbaycan QSC | C10: 24.34786 | D10: 14.59002
A11: 10 | B11: TuranBank ASC | C11: 22.307 | D11: 14.763
A12: 11 | B12: Ziraat Bank Azərbaycan ASC | C12: 20.5143 | D12: 11.1764
A13: 12 | B13: Bank of Baku ASC | C13: 18.2833 | D13: 11.2487
... A21: 20 | B21: Bank Avrasiya ASC | C21: 2.56766 | D21: 1.64865
A22: 21 | B22: Bank Melli İran Bakı filialı | C22: =0.02005236+0.02618269+0.00166672+0.000481 -> 0.04838277 | D22: 0.03162817

Sheet Qeyri-Faiz Xərcləri
A1: Sıra | B1: Banklar | C1: IIIR/2026 | D1: IIR/2026 | F1: Mündəricat
A2: 1 | B2: Kapital Bank ASC | C2: 716.597 | D2: 470.675
A3: 2 | B3: ABB ASC | C3: 483.76998 | D3: 316.79336
A4: 3 | B4: PAŞA Bank ASC | C4: 250.286 | D4: 166.849
A5: 4 | B5: Unibank KB ASC | C5: 179.85 | D5: 121.06
A6: 5 | B6: Bank Respublika ASC | C6: 114.30696 | D6: 70.969666
A7: 6 | B7: Xalq Bank ASC | C7: 92.63005 | D7: 59.94901
A8: 7 | B8: AccessBank QSC | C8: 79.504 | D8: 52.175
A9: 8 | B9: Rabitəbank ASC | C9: 75.01 | D9: 50.139
A10: 9 | B10: Bank of Baku ASC | C10: 72.62277 | D10: 46.906
A11: 10 | B11: Yelo Bank ASC | C11: 66.62294 | D11: 43.82916
A12: 11 | B12: Azər Türk Bank ASC | C12: 61.411 | D12: 39.27
A13: 12 | B13: Expressbank ASC | C13: 39.68442 | D13: 25.31878
... A21: 20 | B21: Bank Avrasiya ASC | C21: 8.53572 | D21: 5.65231
A22: 21 | B22: Bank Melli İran Bakı filialı | C22: =0.07191934+0.05597634+1.41224117 -> 1.5401368 | D22: 1.0494901

Sheet Ehtiyat ayırmaları
A1: Sıra | B1: Banklar | C1: IIIR/2026 | D1: IIR/2026 | F1: Mündəricat
A2: 1 | B2: Kapital Bank ASC | C2: 140.661 | D2: 50.45
A3: 2 | B3: ABB ASC | C3: 96.22525 | D3: 56.09097
A4: 3 | B4: Unibank KB ASC | C4: 20.67 | D4: 9.1451856
A5: 4 | B5: TuranBank ASC | C5: 19.606 | D5: 10.189
A6: 5 | B6: PAŞA Bank ASC | C6: 19.317 | D6: 32.873
A7: 6 | B7: Rabitəbank ASC | C7: 11.218 | D7: 8.621
A8: 7 | B8: Ziraat Bank Azərbaycan ASC | C8: 10.367 | D8: 6.9153
A9: 8 | B9: AccessBank QSC | C9: 7.018 | D9: 6.2
A10: 9 | B10: Yapı Kredi Bank Azərbaycan QSC | C10: 6.97 | D10: 3.26811
A11: 10 | B11: Yelo Bank ASC | C11: 6.52713 | D11: 3.65745
A12: 11 | B12: Expressbank ASC | C12: 6.06132 | D12: 3.48456
A13: 12 | B13: Azər Türk Bank ASC | C13: 5.362 | D13: 2.498
... A22: 21 | B22: Xalq Bank ASC | C22: -1.38469 | D22: 0.79973

Sheet ROA 
A1: Sıra | B1: Banklar | C1: 2026 IIIR ROA,% | H1: Mündəricat
A2: 1 | B2: Bank Melli İran Bakı filialı | C2: 0.036683922
A3: 2 | B3: AccessBank QSC | C3: 0.032026654
A4: 3 | B4: ABB ASC | C4: 0.029150559
A5: 4 | B5: Kapital Bank ASC | C5: 0.028449597
A6: 5 | B6: Bank VTB (Azərbaycan) ASC | C6: 0.027836067
A7: 6 | B7: Premium Bank ASC | C7: 0.025497546
A8: 7 | B8: Bank Respublika ASC | C8: 0.025218818
A9: 8 | B9: Bank of Baku ASC | C9: 0.023022493
A10: 9 | B10: Bank Avrasiya ASC | C10: 0.022280845
A11: 10 | B11: Expressbank ASC | C11: 0.018272743
A12: 11 | B12: PAŞA Bank ASC | C12: 0.017863377
A13: 12 | B13: Ziraat Bank Azərbaycan ASC | C13: 0.017285039
... A22: 21 | B22: TuranBank ASC | C22: 0.0031834041
B24: Hesablanma üsulu | C24: Xalis mənfəət * 4/3 / Aktivlərin həcmi

Sheet ROE 
A1: Sıra | B1: Banklar | C1: 2026 IIIR ROE,% | I1: Mündəricat
A2: 1 | B2: Kapital Bank ASC | C2: 0.29454952
A3: 2 | B3: AccessBank QSC | C3: 0.25271024
A4: 3 | B4: Bank Respublika ASC | C4: 0.23457652
A5: 4 | B5: ABB ASC | C5: 0.20228315
A6: 5 | B6: Bank of Baku ASC | C6: 0.18627497
A7: 6 | B7: PAŞA Bank ASC | C7: 0.18117188
A8: 7 | B8: Unibank KB ASC | C8: 0.15828262
A9: 8 | B9: Ziraat Bank Azərbaycan ASC | C9: 0.15248822
A10: 9 | B10: Azər Türk Bank ASC | C10: 0.14966127
A11: 10 | B11: Rabitəbank ASC | C11: 0.12962649
A12: 11 | B12: Yelo Bank ASC | C12: 0.11820032
A13: 12 | B13: Expressbank ASC | C13: 0.10126898
... A22: 21 | B22: TuranBank ASC | C22: 0.027213697
B24: Hesablanma üsulu | C24: Xalis mənfəət* 4/3/ Balans Kapitalı

Sheet ROA
A1: Sıra | B1: Banklar | C1: 2023 IR ROA,% (Xalis mənfəət/ Aktivlərin həcmi) | E1: Mündəricat
A2: 8 | B2: ABB ASC
A3: 12 | B3: AccessBank QSC
A4: 4 | B4: AFB Bank ASC
A5: 14 | B5: Azər Türk Bank ASC
A6: 18 | B6: Azərbaycan Sənaye Bankı ASC
A7: 16 | B7: Bank Avrasiya ASC
A8: 25 | B8: Bank BTB ASC
A9: 7 | B9: Bank Melli İran Bakı filialı
A10: 1 | B10: Bank of Baku ASC
A11: 10 | B11: Bank Respublika ASC
A12: 2 | B12: Bank VTB (Azərbaycan) ASC
A13: 6 | B13: Expressbank ASC
... A26: 11 | B26: Ziraat Bank Azərbaycan ASC

Sheet ROE
A1: Sıra | B1: Banklar | C1: 2023 IR ROE,% (Xalis mənfəət/ Balans kapitalı) | E1: Mündəricat
A2: 6 | B2: ABB ASC
A3: 8 | B3: AccessBank QSC
A4: 9 | B4: AFB Bank ASC
A5: 5 | B5: Azər Türk Bank ASC
A6: 16 | B6: Azərbaycan Sənaye Bankı ASC
A7: 19 | B7: Bank Avrasiya ASC
A8: 25 | B8: Bank BTB ASC
A9: 17 | B9: Bank Melli İran Bakı filialı
A10: 2 | B10: Bank of Baku ASC
A11: 4 | B11: Bank Respublika ASC
A12: 7 | B12: Bank VTB (Azərbaycan) ASC
A13: 12 | B13: Expressbank ASC
... A26: 13 | B26: Ziraat Bank Azərbaycan ASC
